Workbook
Name _new1: 【参考】サービス名一覧!$A$4:$A$27
Name erea: 【参考】サービス名一覧!$A$3:$A$27
Name erea: #REF!
Name new: 【参考】サービス名一覧!$A$4:$A$27
Name new: #REF!
Name www: #REF!
Name www: #REF!
Name サービス: #REF!
Name サービス: #REF!
Name サービス: #REF!
Name サービス種別: [1]サービス種類一覧!$B$4:$B$20
Name サービス種類: [2]サービス種類一覧!$C$4:$C$20
Name サービス名: 【参考】サービス名一覧!$A$3:$A$20
Name サービス名: [3]別表加算率一覧!$A$5:$A$28
Name サービス名: #REF!
Name サービス名: #REF!
Name サービス名: #REF!
Name サービス名称: #REF!
Name 一覧: [4]加算率一覧!$A$4:$A$25
Name 種類: [5]サービス種類一覧!$A$4:$A$20
Name 特定: #REF!
Name 特定: #REF!

Sheet はじめに
A1: 介護職員処遇改善実績報告書・介護職員等特定処遇改善実績報告書 作成にあたっての入力シート等の説明
A2: 令和２年度の処遇改善加算等に係る実績報告書の作成方法をご説明しています
A4: ワークシート名（左からの順） | B4: 枚数 | C4: ワークシートの入力の順番（推奨） | D4: 説明 | E4: 提出の要否
A5: はじめに | B5: 1 | C5: - | D5: ・本様式の内容と使い方を説明しています。 | E5: 不要
A6: 基本情報入力シート | B6: 1 | C6: ① | D6: ・法人の基本的な情報を入力することで、様式3-1及び様式3-2へ自動的に転記が行われるため、こちらから入力してください。 ・本シートは提出不要です。 | E6: 不要
A7: 別紙様式3-1 | B7: 1 | C7: ③ | D7: ・計画書の基準額や賃金改善を実施したグループ等をを入力します。 ・別紙様式3-2に事業所毎の加算総額や賃金総額、常勤換算職員数等を入力後、賃金改善所要額が加算の総額を上回っていること、平均賃金改善額が配分比率の要件を満たしていること等を確認します。 | E7: 提出
A8: 別紙様式3-2 | B8: ―（一括申請する事業所数により異なる） | C8: ② | D8: ・計画書の別紙様式２－２又は別紙様式２－３で届け出た事業所について、事業所毎の加算総額や賃金総額、常勤換算職員数等を入力します。 | E8: 提出
A16: ２ 書類の作成方法
A17: ●従来の実績報告書からの主な変更点・注意点は下記のとおりです。
A18: ・介護職員処遇改善実績報告書と介護職員等特定処遇改善実績報告書を一本化しました。
A19: ・原則、本様式を用いて実績報告書を作成してください。
A20: ・複数事業所を一括して申請する際の指定権者別・都道府県別一覧表は不要となりました。
A21: ・「賃金改善所要額」の比較対象となる年度は、「初めて加算を取得する（した）前年度」ではなく「（申請の）前年度」となりました。
A22: ・特定加算の平均賃金改善額について、計算方法が変更されました。（下図参照）
D24: 従来 | E24: 見直し案
C25: 計画
C27: 実績

Sheet 基本情報入力シート
A1: 介護職員処遇改善実績報告書・介護職員等特定処遇改善実績報告書作成用 基本情報入力シート | AC1: ↓隠し列
A2: 【注意】本シートは様式作成用のため、提出は不要です。
A4: ●次の情報を本シートの黄色セルに入力することで、各様式に自動的に転記されます。
A5: ・提出先に関する情報
A6: ・基本情報
A7: ・加算対象事業所に関する情報
A9: １ 提出先に関する情報
B10: 処遇改善加算・特定加算の算定届出に係る提出先（指定権者）の名称を入力してください。
B11: 提出先
A13: ２ 基本情報
B14: ⇒下表に必要事項を入力してください。
B15: 法人名 | C15: フリガナ
C16: 名称 | AC16: 〒結合
B17: 法人住所 | C17: 〒 | P17: － | AC17: =CONCATENATE(M17,N17,O17,P17,Q17,R17,S17,T17) -> －
C18: 住所１（番地・住居番号まで）
C19: 住所２（建物名等）
B20: 法人代表者 | C20: 職名
C21: 氏名
B22: 書類作成 担当者 | C22: フリガナ
C23: 氏名
B24: 連絡先 | C24: 電話番号
C25: FAX番号
C26: e-mail
A28: ３ 加算対象事業所に関する情報
B29: 下表に必要事項を入力してください。記入内容が様式3-1及び3-2に反映されます。
B31: 通し番号 | C31: 介護保険事業所番号 | M31: 指定権者名 | R31: 事業所の所在地 | X31: 事業所名 | Y31: サービス名
R32: 都道府県 | W32: 市区町村
B33: 1
B34: =B33+1 -> 2
B35: =B34+1 -> 3
B36: =B35+1 -> 4
B37: =B36+1 -> 5
B38: =B37+1 -> 6
B39: =B38+1 -> 7
B40: =B39+1 -> 8
B41: =B40+1 -> 9
B42: =B41+1 -> 10
B43: =B42+1 -> 11
B44: =B43+1 -> 12
B45: =B44+1 -> 13
...

Sheet 別紙様式3-1
A1: 別紙様式３－１ | Y1: 提出先 | AC1: =IF(基本情報入力シート!C11="","",基本情報入力シート!C11)
A3: 介護職員処遇改善実績報告書・介護職員等特定処遇改善実績報告書（令和 | AH3: 年度）
A6: １ 基本情報
A8: フリガナ | G8: =IF(基本情報入力シート!M15="","",基本情報入力シート!M15)
A9: 法人名 | G9: =IF(基本情報入力シート!M16="","",基本情報入力シート!M16)
A10: 法人所在地 | G10: 〒 | H10: =IF(基本情報入力シート!AC17="","",基本情報入力シート!AC17) -> －
G11: =IF(基本情報入力シート!M18="","",基本情報入力シート!M18)
G12: =IF(基本情報入力シート!M19="","",基本情報入力シート!M19)
A13: フリガナ | G13: =IF(基本情報入力シート!M22="","",基本情報入力シート!M22)
A14: 書類作成担当者 | G14: =IF(基本情報入力シート!M23="","",基本情報入力シート!M23)
A15: 連絡先 | G15: 電話番号 | K15: =IF(基本情報入力シート!M24="","",基本情報入力シート!M24) | P15: FAX番号 | T15: =IF(基本情報入力シート!M25="","",基本情報入力シート!M25) | Y15: E-mail | AC15: =IF(基本情報入力シート!M26="","",基本情報入力シート!M26)
A18: 【本報告書で報告する加算】 加算名称にチェックを入れること。
D19: 介護職員処遇改善加算（処遇改善加算） | U19: 介護職員等特定処遇改善加算（特定加算）
A22: ２ 実績報告＜共通＞ | L22: ※詳細は別紙様式３－２に記載
S24: 介護職員処遇改善加算 | AB24: 介護職員等特定処遇改善加算
A25: ① | B25: 令和 | D25: =$AF$3 -> 0 | F25: 年度分の加算の総額 | S25: ='別紙様式3-2'!$Q$7 -> 0 | Z25: 円 | AB25: ='別紙様式3-2'!$Q$8 -> 0 | AI25: 円 | AL25: =IFERROR(IF(AND(ISNUMBER(S26),ISNUMBER(S25),S26>S25),"○","☓"),"") -> ☓ | AM25: ！この欄が○でない場合、処遇改善加算による賃金改善の見込額が要件を満たしていません。
A26: ② | B26: 賃金改善所要額（ⅰ－ⅱ） | R26: (右欄の額は①欄の額を上回ること) | S26: =S27-S31 -> 0 | Z26: 円 | AB26: =AB27-AB31 -> 0 | AI26: 円 | AK26: <- | AL26: =IFERROR(IF(AND(ISNUMBER(AB26),ISNUMBER(AB25),AB26>AB25),"○","☓"),"") -> ☓ | AM26: ！この欄が○でない場合、特定加算による賃金改善の見込額が要件を満たしていません。
B27: ⅰ）加算の算定により賃金改善を行った賃金の総額 | S27: =S28-S30 -> 0 | Z27: 円 | AB27: =AB28-AB29 -> 0 | AI27: 円
C28: 本年度の賃金の総額(a) | S28: ='別紙様式3-2'!$U$7 -> 0 | Z28: 円 | AB28: ='別紙様式3-2'!$U$8 -> 0 | AI28: 円
C29: 介護職員処遇改善加算の総額(b) | AB29: ='別紙様式3-2'!$Q$7 -> 0 | AI29: 円
C30: 介護職員等特定処遇改善加算の総額(c) （その他の職員への支給分を除く） | S30: ='別紙様式3-2'!Q8-'別紙様式3-2'!$T$8 -> 0 | Z30: 円
B31: ⅱ）前年度の賃金の総額【基準額１】【基準額２】 | Z31: 円 | AI31: 円
B33: ※②の「本年度の賃金の総額」には、賃金改善に伴う法定福利費等の事業主負担の増加分を含めることができる。
B34: ※「前年度の賃金の総額」には、計画書の（１）④ⅱ）又は（２）⑥ⅱ）の額を記載すること。
A36: ③ | B36: 平均賃金改善額＜特定＞
K38: 賃金改善を実施した グループ | N38: 前年度の平均賃金額(月額)【基準額３】 | S38: 本年度の平均賃金額(月額) | X38: 平均賃金改善額 | AC38: (配分比率) | AF38: 改善後の賃金が 最も高額となった者の賃金(年額)
A39: （Ａ）経験・技能のある介護職員 | L39: FALSE | R39: 円 | S39: =IF(L39,('別紙様式3-2'!V8-'別紙様式3-2'!R7)/'別紙様式3-2'!Y8,"（対象外）") -> （対象外） | W39: =IF($L39,"円","") | X39: =IF(L39,S39-N39,"（対象外）") -> （対象外） | AB39: =IF($L39,"円","") | AC39: =IF(AND(L39,L40),X39/X40,IF(AND(L39,L41),X39/X41,"-")) -> - | AL39: =IFERROR(IF(AND(L39,L40),IF(AC39>=2,"○","☓"),IF(AND(L39,L41),IF(AC39>=4,"○","☓"),"")),"") | AM39: ！この欄が☓の場合、A:BまたはA:Cの配分比率が要件を満たしていません。
A40: （Ｂ）他の介護職員 | L40: FALSE | R40: 円 | S40: =IF(L40,('別紙様式3-2'!W8-'別紙様式3-2'!S7)/'別紙様式3-2'!Z8,"（対象外）") -> （対象外） | W40: =IF($L40,"円","") | X40: =IF(L40,S40-N40,"（対象外）") -> （対象外） | AB40: =IF($L40,"円","") | AC40: =IF(AND(L40,OR(L39,L41)),1,"-") -> - | AL40: =IFERROR(IF(AND(L40,L41),IF(AC41<=0.5,"○","☓"),""),"") | AM40: ！この欄が☓の場合、B:Cの配分比率が要件を満たしていません。
A41: （Ｃ）その他の職種 | L41: FALSE | R41: 円 | S41: =IF(L41,'別紙様式3-2'!X8/'別紙様式3-2'!AA8,"（対象外）") -> （対象外） | W41: =IF($L41,"円","") | X41: =IF(L41,S41-N41,"（対象外）") -> （対象外） | AB41: =IF($L41,"円","") | AC41: =IF(AND(L40,L41),X41/X40,IF(AND(L39,L41),1,"-")) -> - | AJ41: 円 | AL41: =IFERROR(IF(AF41<=4400000,"○","☓"),"") -> ○ | AM41: ！この欄が☓の場合、Cのうち改善後の賃金が最も高額となった者の賃金が440万円を超えています。
B42: ※「前年度の平均賃金額（月額）」には、計画書（２）⑦ⅳ）の額を記載すること。 | AL42: =IFERROR(IF(OR(AND(NOT(L39),NOT(L40),NOT(L41)),AND(NOT(L39),NOT(L40),L41)),"☓","○"),"") -> ☓ | AM42: ！この欄が☓の場合、「賃金改善を実施したグループ」の選択方法が不適当です。
A44: ④ | B44: 月額平均８万円又は改善後の賃金が年額440万円となった者＜特定＞ | X44: いずれかに該当する人数 | AF44: ='別紙様式3-2'!$AB$8 -> 0 | AI44: 人 | AL44: =IFERROR(IF(AND('別紙様式3-2'!$AC$8>=1),IF(OR(C47:C50),"○","☓"),"○"),"") -> ○ | AM44: ！この欄が☓の場合、「設定できない事業所があった場合その理由」欄にチェックが必要です。
B46: （設定できない事業所があった場合その理由） ※複数回答可
C47: FALSE | D47: 小規模事業所等で加算額全体が少額であるため。
C48: FALSE | D48: 職員全体の賃金水準が低く、直ちに月額平均８万円等まで賃金を引き上げることが困難であるため。 | AM48: ='別紙様式3-2'!$AC$8 -> 0
C49: FALSE | D49: 月額平均８万円等の賃金改善を行うに当たり、これまで以上に事業所内の階層や役職にある者に求められる能力や処遇を明確化することが必要であり、規程の整備や研修・実務経験の蓄積などに一定期間を要するため。
C50: FALSE | D50: その他 | F50: （ | AI50: ）
A53: ※ | B53: 給与明細や勤務記録等、実績報告の根拠となる資料は、指定権者からの求めがあった場合に速やかに提出できるよう、適切に保管しておくこと。
A54: ※ | B54: 介護職員処遇改善加算及び介護職員等特定処遇改善加算に関して、虚偽や不正があった場合には、支払われた介護給付費の返還や介護事業者の指定取消となる場合があるので留意すること。
B57: 実績報告書の記載内容に虚偽がないことを証明するとともに、記載内容を証明する資料を適切に保管していることを誓約します。
C59: 令和 | G59: 年 | J59: 月 | M59: 日 | R59: （法人名）
...

Sheet 別紙様式3-2
A1: 別紙様式３－２ | I1: 介護職員処遇改善実績報告書・介護職員等特定処遇改善実績報告書（施設・事業所別個表）
A3: 法人名 | D3: =基本情報入力シート!$M$16 -> 0
Q5: 本年度の加算の総額［円］ | R5: （グループ別内訳） | U5: 本年度の賃金の総額［円］ | V5: （グループ別内訳） | Y5: 本年度の常勤換算職員数［人］ | AB5: 経験・技能のある介護職員のうち月平均8万円以上又は年額440万円以上［人］
R6: 経験・技能のある介護職員(A) | S6: 他の 介護職員(B) | T6: その他の職種(C) | V6: 経験・技能のある介護職員(A) | W6: 他の 介護職員(B) | X6: その他の職種(C) | Y6: 経験・技能のある介護職員(A) | Z6: 他の 介護職員(B) | AA6: その他の職種(C) | AC6: 未設定の 事業所
B7: 介護職員処遇改善加算の合計 | Q7: =SUM(S19:S118) -> 0 | R7: =SUM(T19:T118) -> 0 | S7: =SUM(U19:U118) -> 0 | U7: =SUM(V19:V118) -> 0
B8: 介護職員等特定処遇改善加算の合計 | Q8: =SUM(X19:X118) -> 0 | R8: =SUM(Y19:Y118) -> 0 | S8: =SUM(Z19:Z118) -> 0 | T8: =SUM(AA19:AA118) -> 0 | U8: =SUM(V8:X8) -> 0 | V8: =SUM(AB19:AB118) -> 0 | W8: =SUM(AC19:AC118) -> 0 | X8: =SUM(AD19:AD118) -> 0 | Y8: =SUM(AE19:AE118) -> 0 | Z8: =SUM(AF19:AF118) -> 0 | AA8: =SUM(AG19:AG118) -> 0 | AB8: =SUM(AH19:AH118) -> 0 | AC8: =COUNTIFS(AH19:AH118,"",AF19:AF118,">０")+COUNTIFS(AH19:AH118,"",AE19:AE118,">０")-COUNTIFS(AE19:AE118,">0",AF19:AF118,">０",AH19:AH118,"") -> 0
B10: ※本表に記載する事業所は、計画書の別紙様式２－２に記載した事業所と一致しなければならない。
B11: ※事業所の数が多く、１枚に記載しきれない場合は、適宜、行を追加すること。
B13: 介護保険事業所番号 | M13: 指定権者 | P13: 事業所名 | Q13: サービス名 | R13: 介護職員処遇改善加算 | W13: 介護職員等特定処遇改善加算
N14: 事業所の所在地 | R14: 算定する介護職員処遇改善加算の区分 | S14: 本年度の加算の総額［円］ | V14: 本年度の賃金の総額［円］ | W14: 算定する介護職員等特定処遇改善加算の区分 | X14: 本年度の加算の総額［円］ | AB14: 本年度の賃金の総額(［円］ | AE14: 本年度の常勤換算職員数［人］ | AH14: 経験・技能のある介護職員のうち月平均8万円以上又は年額440万円以上［人］
T15: グループ別内訳 | Y15: グループ別内訳
N16: 都道府県 | O16: 市区町村 | T16: 経験・技能のある介護職員(A) | U16: 他の 介護職員(B) | Y16: 経験・技能のある介護職員(A) | Z16: 他の 介護職員(B) | AA16: その他の職種(C) | AB16: 経験・技能のある介護職員(A) | AC16: 他の 介護職員(B) | AD16: その他の職種(C) | AE16: 経験・技能のある介護職員(A) | AF16: 他の 介護職員(B) | AG16: その他の職種(C)
A19: 1 | B19: =IF(基本情報入力シート!C33="","",基本情報入力シート!C33) | C19: =IF(基本情報入力シート!D33="","",基本情報入力シート!D33) | D19: =IF(基本情報入力シート!E33="","",基本情報入力シート!E33) | E19: =IF(基本情報入力シート!F33="","",基本情報入力シート!F33) | F19: =IF(基本情報入力シート!G33="","",基本情報入力シート!G33) | G19: =IF(基本情報入力シート!H33="","",基本情報入力シート!H33) | H19: =IF(基本情報入力シート!I33="","",基本情報入力シート!I33) | I19: =IF(基本情報入力シート!J33="","",基本情報入力シート!J33) | ... K19: =IF(基本情報入力シート!L33="","",基本情報入力シート!L33) | L19: =B19&C19 | M19: =IF(基本情報入力シート!M33="","",基本情報入力シート!M33) | N19: =IF(基本情報入力シート!R33="","",基本情報入力シート!R33) | O19: =IF(基本情報入力シート!W33="","",基本情報入力シート!W33) | P19: =IF(基本情報入力シート!X33="","",基本情報入力シート!X33) | Q19: =IF(基本情報入力シート!Y33="","",基本情報入力シート!Y33)
A20: =A19+1 -> 2 | B20: =IF(基本情報入力シート!C34="","",基本情報入力シート!C34) | C20: =IF(基本情報入力シート!D34="","",基本情報入力シート!D34) | D20: =IF(基本情報入力シート!E34="","",基本情報入力シート!E34) | E20: =IF(基本情報入力シート!F34="","",基本情報入力シート!F34) | F20: =IF(基本情報入力シート!G34="","",基本情報入力シート!G34) | G20: =IF(基本情報入力シート!H34="","",基本情報入力シート!H34) | H20: =IF(基本情報入力シート!I34="","",基本情報入力シート!I34) | I20: =IF(基本情報入力シート!J34="","",基本情報入力シート!J34) | ... K20: =IF(基本情報入力シート!L34="","",基本情報入力シート!L34) | L20: =B20&C20 | M20: =IF(基本情報入力シート!M34="","",基本情報入力シート!M34) | N20: =IF(基本情報入力シート!R34="","",基本情報入力シート!R34) | O20: =IF(基本情報入力シート!W34="","",基本情報入力シート!W34) | P20: =IF(基本情報入力シート!X34="","",基本情報入力シート!X34) | Q20: =IF(基本情報入力シート!Y34="","",基本情報入力シート!Y34)
A21: =A20+1 -> 3 | B21: =IF(基本情報入力シート!C35="","",基本情報入力シート!C35) | C21: =IF(基本情報入力シート!D35="","",基本情報入力シート!D35) | D21: =IF(基本情報入力シート!E35="","",基本情報入力シート!E35) | E21: =IF(基本情報入力シート!F35="","",基本情報入力シート!F35) | F21: =IF(基本情報入力シート!G35="","",基本情報入力シート!G35) | G21: =IF(基本情報入力シート!H35="","",基本情報入力シート!H35) | H21: =IF(基本情報入力シート!I35="","",基本情報入力シート!I35) | I21: =IF(基本情報入力シート!J35="","",基本情報入力シート!J35) | ... K21: =IF(基本情報入力シート!L35="","",基本情報入力シート!L35) | L21: =B21&C21 | M21: =IF(基本情報入力シート!M35="","",基本情報入力シート!M35) | N21: =IF(基本情報入力シート!R35="","",基本情報入力シート!R35) | O21: =IF(基本情報入力シート!W35="","",基本情報入力シート!W35) | P21: =IF(基本情報入力シート!X35="","",基本情報入力シート!X35) | Q21: =IF(基本情報入力シート!Y35="","",基本情報入力シート!Y35)
A22: =A21+1 -> 4 | B22: =IF(基本情報入力シート!C36="","",基本情報入力シート!C36) | C22: =IF(基本情報入力シート!D36="","",基本情報入力シート!D36) | D22: =IF(基本情報入力シート!E36="","",基本情報入力シート!E36) | E22: =IF(基本情報入力シート!F36="","",基本情報入力シート!F36) | F22: =IF(基本情報入力シート!G36="","",基本情報入力シート!G36) | G22: =IF(基本情報入力シート!H36="","",基本情報入力シート!H36) | H22: =IF(基本情報入力シート!I36="","",基本情報入力シート!I36) | I22: =IF(基本情報入力シート!J36="","",基本情報入力シート!J36) | ... K22: =IF(基本情報入力シート!L36="","",基本情報入力シート!L36) | L22: =B22&C22 | M22: =IF(基本情報入力シート!M36="","",基本情報入力シート!M36) | N22: =IF(基本情報入力シート!R36="","",基本情報入力シート!R36) | O22: =IF(基本情報入力シート!W36="","",基本情報入力シート!W36) | P22: =IF(基本情報入力シート!X36="","",基本情報入力シート!X36) | Q22: =IF(基本情報入力シート!Y36="","",基本情報入力シート!Y36)
A23: =A22+1 -> 5 | B23: =IF(基本情報入力シート!C37="","",基本情報入力シート!C37) | C23: =IF(基本情報入力シート!D37="","",基本情報入力シート!D37) | D23: =IF(基本情報入力シート!E37="","",基本情報入力シート!E37) | E23: =IF(基本情報入力シート!F37="","",基本情報入力シート!F37) | F23: =IF(基本情報入力シート!G37="","",基本情報入力シート!G37) | G23: =IF(基本情報入力シート!H37="","",基本情報入力シート!H37) | H23: =IF(基本情報入力シート!I37="","",基本情報入力シート!I37) | I23: =IF(基本情報入力シート!J37="","",基本情報入力シート!J37) | ... K23: =IF(基本情報入力シート!L37="","",基本情報入力シート!L37) | L23: =B23&C23 | M23: =IF(基本情報入力シート!M37="","",基本情報入力シート!M37) | N23: =IF(基本情報入力シート!R37="","",基本情報入力シート!R37) | O23: =IF(基本情報入力シート!W37="","",基本情報入力シート!W37) | P23: =IF(基本情報入力シート!X37="","",基本情報入力シート!X37) | Q23: =IF(基本情報入力シート!Y37="","",基本情報入力シート!Y37)
A24: =A23+1 -> 6 | B24: =IF(基本情報入力シート!C38="","",基本情報入力シート!C38) | C24: =IF(基本情報入力シート!D38="","",基本情報入力シート!D38) | D24: =IF(基本情報入力シート!E38="","",基本情報入力シート!E38) | E24: =IF(基本情報入力シート!F38="","",基本情報入力シート!F38) | F24: =IF(基本情報入力シート!G38="","",基本情報入力シート!G38) | G24: =IF(基本情報入力シート!H38="","",基本情報入力シート!H38) | H24: =IF(基本情報入力シート!I38="","",基本情報入力シート!I38) | I24: =IF(基本情報入力シート!J38="","",基本情報入力シート!J38) | ... K24: =IF(基本情報入力シート!L38="","",基本情報入力シート!L38) | L24: =B24&C24 | M24: =IF(基本情報入力シート!M38="","",基本情報入力シート!M38) | N24: =IF(基本情報入力シート!R38="","",基本情報入力シート!R38) | O24: =IF(基本情報入力シート!W38="","",基本情報入力シート!W38) | P24: =IF(基本情報入力シート!X38="","",基本情報入力シート!X38) | Q24: =IF(基本情報入力シート!Y38="","",基本情報入力シート!Y38)
A25: =A24+1 -> 7 | B25: =IF(基本情報入力シート!C39="","",基本情報入力シート!C39) | C25: =IF(基本情報入力シート!D39="","",基本情報入力シート!D39) | D25: =IF(基本情報入力シート!E39="","",基本情報入力シート!E39) | E25: =IF(基本情報入力シート!F39="","",基本情報入力シート!F39) | F25: =IF(基本情報入力シート!G39="","",基本情報入力シート!G39) | G25: =IF(基本情報入力シート!H39="","",基本情報入力シート!H39) | H25: =IF(基本情報入力シート!I39="","",基本情報入力シート!I39) | I25: =IF(基本情報入力シート!J39="","",基本情報入力シート!J39) | ... K25: =IF(基本情報入力シート!L39="","",基本情報入力シート!L39) | L25: =B25&C25 | M25: =IF(基本情報入力シート!M39="","",基本情報入力シート!M39) | N25: =IF(基本情報入力シート!R39="","",基本情報入力シート!R39) | O25: =IF(基本情報入力シート!W39="","",基本情報入力シート!W39) | P25: =IF(基本情報入力シート!X39="","",基本情報入力シート!X39) | Q25: =IF(基本情報入力シート!Y39="","",基本情報入力シート!Y39)
A26: =A25+1 -> 8 | B26: =IF(基本情報入力シート!C40="","",基本情報入力シート!C40) | C26: =IF(基本情報入力シート!D40="","",基本情報入力シート!D40) | D26: =IF(基本情報入力シート!E40="","",基本情報入力シート!E40) | E26: =IF(基本情報入力シート!F40="","",基本情報入力シート!F40) | F26: =IF(基本情報入力シート!G40="","",基本情報入力シート!G40) | G26: =IF(基本情報入力シート!H40="","",基本情報入力シート!H40) | H26: =IF(基本情報入力シート!I40="","",基本情報入力シート!I40) | I26: =IF(基本情報入力シート!J40="","",基本情報入力シート!J40) | ... K26: =IF(基本情報入力シート!L40="","",基本情報入力シート!L40) | L26: =B26&C26 | M26: =IF(基本情報入力シート!M40="","",基本情報入力シート!M40) | N26: =IF(基本情報入力シート!R40="","",基本情報入力シート!R40) | O26: =IF(基本情報入力シート!W40="","",基本情報入力シート!W40) | P26: =IF(基本情報入力シート!X40="","",基本情報入力シート!X40) | Q26: =IF(基本情報入力シート!Y40="","",基本情報入力シート!Y40)
A27: =A26+1 -> 9 | B27: =IF(基本情報入力シート!C41="","",基本情報入力シート!C41) | C27: =IF(基本情報入力シート!D41="","",基本情報入力シート!D41) | D27: =IF(基本情報入力シート!E41="","",基本情報入力シート!E41) | E27: =IF(基本情報入力シート!F41="","",基本情報入力シート!F41) | F27: =IF(基本情報入力シート!G41="","",基本情報入力シート!G41) | G27: =IF(基本情報入力シート!H41="","",基本情報入力シート!H41) | H27: =IF(基本情報入力シート!I41="","",基本情報入力シート!I41) | I27: =IF(基本情報入力シート!J41="","",基本情報入力シート!J41) | ... K27: =IF(基本情報入力シート!L41="","",基本情報入力シート!L41) | L27: =B27&C27 | M27: =IF(基本情報入力シート!M41="","",基本情報入力シート!M41) | N27: =IF(基本情報入力シート!R41="","",基本情報入力シート!R41) | O27: =IF(基本情報入力シート!W41="","",基本情報入力シート!W41) | P27: =IF(基本情報入力シート!X41="","",基本情報入力シート!X41) | Q27: =IF(基本情報入力シート!Y41="","",基本情報入力シート!Y41)
A28: =A27+1 -> 10 | B28: =IF(基本情報入力シート!C42="","",基本情報入力シート!C42) | C28: =IF(基本情報入力シート!D42="","",基本情報入力シート!D42) | D28: =IF(基本情報入力シート!E42="","",基本情報入力シート!E42) | E28: =IF(基本情報入力シート!F42="","",基本情報入力シート!F42) | F28: =IF(基本情報入力シート!G42="","",基本情報入力シート!G42) | G28: =IF(基本情報入力シート!H42="","",基本情報入力シート!H42) | H28: =IF(基本情報入力シート!I42="","",基本情報入力シート!I42) | I28: =IF(基本情報入力シート!J42="","",基本情報入力シート!J42) | ... K28: =IF(基本情報入力シート!L42="","",基本情報入力シート!L42) | L28: =B28&C28 | M28: =IF(基本情報入力シート!M42="","",基本情報入力シート!M42) | N28: =IF(基本情報入力シート!R42="","",基本情報入力シート!R42) | O28: =IF(基本情報入力シート!W42="","",基本情報入力シート!W42) | P28: =IF(基本情報入力シート!X42="","",基本情報入力シート!X42) | Q28: =IF(基本情報入力シート!Y42="","",基本情報入力シート!Y42)
A29: =A28+1 -> 11 | B29: =IF(基本情報入力シート!C43="","",基本情報入力シート!C43) | C29: =IF(基本情報入力シート!D43="","",基本情報入力シート!D43) | D29: =IF(基本情報入力シート!E43="","",基本情報入力シート!E43) | E29: =IF(基本情報入力シート!F43="","",基本情報入力シート!F43) | F29: =IF(基本情報入力シート!G43="","",基本情報入力シート!G43) | G29: =IF(基本情報入力シート!H43="","",基本情報入力シート!H43) | H29: =IF(基本情報入力シート!I43="","",基本情報入力シート!I43) | I29: =IF(基本情報入力シート!J43="","",基本情報入力シート!J43) | ... K29: =IF(基本情報入力シート!L43="","",基本情報入力シート!L43) | L29: =B29&C29 | M29: =IF(基本情報入力シート!M43="","",基本情報入力シート!M43) | N29: =IF(基本情報入力シート!R43="","",基本情報入力シート!R43) | O29: =IF(基本情報入力シート!W43="","",基本情報入力シート!W43) | P29: =IF(基本情報入力シート!X43="","",基本情報入力シート!X43) | Q29: =IF(基本情報入力シート!Y43="","",基本情報入力シート!Y43)
A30: =A29+1 -> 12 | B30: =IF(基本情報入力シート!C44="","",基本情報入力シート!C44) | C30: =IF(基本情報入力シート!D44="","",基本情報入力シート!D44) | D30: =IF(基本情報入力シート!E44="","",基本情報入力シート!E44) | E30: =IF(基本情報入力シート!F44="","",基本情報入力シート!F44) | F30: =IF(基本情報入力シート!G44="","",基本情報入力シート!G44) | G30: =IF(基本情報入力シート!H44="","",基本情報入力シート!H44) | H30: =IF(基本情報入力シート!I44="","",基本情報入力シート!I44) | I30: =IF(基本情報入力シート!J44="","",基本情報入力シート!J44) | ... K30: =IF(基本情報入力シート!L44="","",基本情報入力シート!L44) | L30: =B30&C30 | M30: =IF(基本情報入力シート!M44="","",基本情報入力シート!M44) | N30: =IF(基本情報入力シート!R44="","",基本情報入力シート!R44) | O30: =IF(基本情報入力シート!W44="","",基本情報入力シート!W44) | P30: =IF(基本情報入力シート!X44="","",基本情報入力シート!X44) | Q30: =IF(基本情報入力シート!Y44="","",基本情報入力シート!Y44)
A31: =A30+1 -> 13 | B31: =IF(基本情報入力シート!C45="","",基本情報入力シート!C45) | C31: =IF(基本情報入力シート!D45="","",基本情報入力シート!D45) | D31: =IF(基本情報入力シート!E45="","",基本情報入力シート!E45) | E31: =IF(基本情報入力シート!F45="","",基本情報入力シート!F45) | F31: =IF(基本情報入力シート!G45="","",基本情報入力シート!G45) | G31: =IF(基本情報入力シート!H45="","",基本情報入力シート!H45) | H31: =IF(基本情報入力シート!I45="","",基本情報入力シート!I45) | I31: =IF(基本情報入力シート!J45="","",基本情報入力シート!J45) | ... K31: =IF(基本情報入力シート!L45="","",基本情報入力シート!L45) | L31: =B31&C31 | M31: =IF(基本情報入力シート!M45="","",基本情報入力シート!M45) | N31: =IF(基本情報入力シート!R45="","",基本情報入力シート!R45) | O31: =IF(基本情報入力シート!W45="","",基本情報入力シート!W45) | P31: =IF(基本情報入力シート!X45="","",基本情報入力シート!X45) | Q31: =IF(基本情報入力シート!Y45="","",基本情報入力シート!Y45)
... A118: =A117+1 -> 100 | B118: =IF(基本情報入力シート!C132="","",基本情報入力シート!C132) | C118: =IF(基本情報入力シート!D132="","",基本情報入力シート!D132) | D118: =IF(基本情報入力シート!E132="","",基本情報入力シート!E132) | E118: =IF(基本情報入力シート!F132="","",基本情報入力シート!F132) | F118: =IF(基本情報入力シート!G132="","",基本情報入力シート!G132) | G118: =IF(基本情報入力シート!H132="","",基本情報入力シート!H132) | H118: =IF(基本情報入力シート!I132="","",基本情報入力シート!I132) | I118: =IF(基本情報入力シート!J132="","",基本情報入力シート!J132) | ... K118: =IF(基本情報入力シート!L132="","",基本情報入力シート!L132) | L118: =B118&C118 | M118: =IF(基本情報入力シート!M132="","",基本情報入力シート!M132) | N118: =IF(基本情報入力シート!R132="","",基本情報入力シート!R132) | O118: =IF(基本情報入力シート!W132="","",基本情報入力シート!W132) | P118: =IF(基本情報入力シート!X132="","",基本情報入力シート!X132) | Q118: =IF(基本情報入力シート!Y132="","",基本情報入力シート!Y132)

Sheet 基準額変更の理由
A1: 基準額変更の理由 ※該当の場合のみ （令和２年度実績報告書用）
A2: 法人名 | B2: =IF(基本情報入力シート!M16="","",基本情報入力シート!M16)
A3: 変更内容 | E3: 単位：円
C4: 変更前 | E4: 変更後
A5: 基準額１_処遇改善加算
A6: 基準額２_特定処遇改善加算
A7: 基準額３_特定処遇改善加算 | C7: (Ａ）
C8: (Ｂ）
C9: (Ｃ）
A10: 基準額の算定根拠（記入例：勤続○年の者が○人、○年の者が○人、○年の者が○人）
A11: 変更前
A12: 変更後
A13: 変更が必要な理由（該当ものにチェックください）
B14: 基準額の算出時点（平成31年1月～令和元年12月）と職員数に増減が生じている。
B15: 時給制職員の勤務時間が基準額の算出時点と異なっている。
B16: 職員の勤続年数や年齢構成の変化により賃金額に差異が生じている。
B17: 賃金改善実施期間が処遇改善計画書策定時点から変更している。
B18: 賃金額や加算額が当初の見込と大きく異なっている。
B19: 年度途中で事業所の増減が生じている。
B20: その他（以下、具体的に入力ください）
A22: ※経営状況等の変化により賃金水準を引き下げる場合は、本件書類ではなく特別事情届出書（別紙様式４）を提出ください。
A23: ※本件書類は令和２年度実績報告書の場合です。令和３年度の場合は、別紙様式3-1の最後の「⑥その他」に入力ください。

Sheet 配分比率満たせない理由
A1: 配分比率を満たせない理由 ※該当の場合のみ （令和２年度実績報告書用）
A2: 法人名 | B2: =IF(基本情報入力シート!M16="","",基本情報入力シート!M16)
A4: 理由
A6: =基準額変更の理由!A22 -> ※経営状況等の変化により賃金水準を引き下げる場合は、本件書類ではなく特別事情届出書（別紙様式４）を提出ください。
A7: =基準額変更の理由!A23 -> ※本件書類は令和２年度実績報告書の場合です。令和３年度の場合は、別紙様式3-1の最後の「⑥その他」に入力ください。

Sheet 余剰金報告
A1: 余剰金報告 ※該当の場合のみ
A2: 法人名 | B2: =IF(基本情報入力シート!M16="","",基本情報入力シート!M16)
B3: 単位：円
A4: 余剰金額
A5: 余剰金額の 支払予定
A6: ※超過分（限度外）については報告不要です。
A7: ※当該加算取得事業者は、賃金改善実施期間内に加算の算定額に相当する賃金改善を行う必要があります。万一余剰金が発生した場合は、可能な限り速やかに賃金としてお支払い下さい。

Sheet 【参考】サービス名一覧
A2: ＜サービス名一覧>
A3: サービス名
A4: 訪問介護
A5: 夜間対応型訪問介護
A6: 定期巡回･随時対応型訪問介護看護
A7: （介護予防）訪問入浴介護
A8: 通所介護
A9: 地域密着型通所介護
A10: （介護予防）通所リハビリテーション
A11: （介護予防）特定施設入居者生活介護
A12: 地域密着型特定施設入居者生活介護
A13: （介護予防）認知症対応型通所介護
... A27: 通所型サービス（独自）
