Workbook
Name フィルタ施設リスト: _xlfn.ANCHORARRAY('[1]【要記入】報告書（8号様式）'!$T$2)

Sheet 職員の構成（１片）
A1: 第２号様式（第１片）
A2: 職員の構成
A3: 職名 | B3: 氏名 | D3: 年齢 | E3: 常勤・その他の別 | F3: 所定労働時間 | H3: 資格の種別 （注1） | N3: 経験年数（幼）（注2） | O3: 経験年数（保）（注2）
F4: 区分 | G4: 時間数
A5: 園長 | E5: 常 ・ 他 | F5: 月・週・日 | H5: 幼稚園教諭 ・ 保育士 その他（ ） | T5: 園長
A6: 保育教諭 | E6: 常 ・ 他 | F6: 月・週・日 | H6: 幼稚園教諭 ・ 保育士 その他（ ） | T6: 副園長
E7: 常 ・ 他 | F7: 月・週・日 | H7: 幼稚園教諭 ・ 保育士 その他（ ） | T7: 保育教諭
E8: 常 ・ 他 | F8: 月・週・日 | H8: 幼稚園教諭 ・ 保育士 その他（ ） | T8: 教頭
E9: 常 ・ 他 | F9: 月・週・日 | H9: 幼稚園教諭 ・ 保育士 その他（ ） | T9: 主幹保育教諭
E10: 常 ・ 他 | F10: 月・週・日 | H10: 幼稚園教諭 ・ 保育士 その他（ ） | T10: 指導保育教諭
E11: 常 ・ 他 | F11: 月・週・日 | H11: 幼稚園教諭 ・ 保育士 その他（ ） | T11: 主務保育教諭
E12: 常 ・ 他 | F12: 月・週・日 | H12: 幼稚園教諭 ・ 保育士 その他（ ） | T12: 主幹養護教諭
E13: 常 ・ 他 | F13: 月・週・日 | H13: 幼稚園教諭 ・ 保育士 その他（ ） | T13: 主務養護教諭
E14: 常 ・ 他 | F14: 月・週・日 | H14: 幼稚園教諭 ・ 保育士 その他（ ） | T14: 養護教諭
E15: 常 ・ 他 | F15: 月・週・日 | H15: 幼稚園教諭 ・ 保育士 その他（ ） | T15: 主幹栄養教諭
E16: 常 ・ 他 | F16: 月・週・日 | H16: 幼稚園教諭 ・ 保育士 その他（ ） | T16: 主務栄養教諭
E17: 常 ・ 他 | F17: 月・週・日 | H17: 幼稚園教諭 ・ 保育士 その他（ ） | T17: 栄養教諭
E18: 常 ・ 他 | F18: 月・週・日 | H18: 幼稚園教諭 ・ 保育士 その他（ ） | T18: 事務職員
... E21: 常 ・ 他 | F21: 月・週・日 | H21: 幼稚園教諭 ・ 保育士 その他（ ） | T21: 養護助教諭
A22: 調理員 | E22: 常 ・ 他 | F22: 月・週・日 | T22: 調理員
E23: 常 ・ 他 | F23: 月・週・日 | T23: その他
E24: 常 ・ 他 | F24: 月・週・日 | T24: 学校医
A25: 学校医 | E25: 常 ・ 他 | F25: 月・週・日 | T25: 学校歯科医
A26: 学校歯科医 | E26: 常 ・ 他 | F26: 月・週・日 | T26: 学校薬剤師
A27: 学校薬剤師 | E27: 常 ・ 他 | F27: 月・週・日
A28: その他 (事務等) | E28: 常 ・ 他 | F28: 月・週・日
A30: 注１) 有資格者について、保有する資格に○を付けること。
A31: 注２) 有資格者として、常勤で勤務していた年数を記入すること。

Sheet （２片）
A1: （第２片）
A3: 職名 | B3: 氏名 | D3: 勤 務 時 間 帯 | BT3: 勤務 時間
F4: 7時 | J4: 8時 | N4: 9時 | R4: 10時 | V4: 11時 | Z4: 12時 | AD4: 13時 | AH4: 14時 | AL4: 15時 | AP4: 16時 | AT4: 17時 | AX4: 18時 | BB4: 19時 | BF4: 20時 | BJ4: 21時 | BN4: 22時
A6: =IF('職員の構成（１片）'!A5="","",'職員の構成（１片）'!A5) -> 園長 | B6: ='職員の構成（１片）'!B5:C5 -> 0
A7: =IF('職員の構成（１片）'!A6="","",'職員の構成（１片）'!A6) -> 保育教諭 | B7: ='職員の構成（１片）'!B6:C6 -> 0
A8: =IF('職員の構成（１片）'!A7="","",'職員の構成（１片）'!A7) | B8: ='職員の構成（１片）'!B7:C7 -> 0
A9: =IF('職員の構成（１片）'!A8="","",'職員の構成（１片）'!A8) | B9: ='職員の構成（１片）'!B8:C8 -> 0
A10: =IF('職員の構成（１片）'!A9="","",'職員の構成（１片）'!A9) | B10: ='職員の構成（１片）'!B9:C9 -> 0
A11: =IF('職員の構成（１片）'!A10="","",'職員の構成（１片）'!A10) | B11: ='職員の構成（１片）'!B10:C10 -> 0
A12: =IF('職員の構成（１片）'!A11="","",'職員の構成（１片）'!A11) | B12: ='職員の構成（１片）'!B11:C11 -> 0
A13: =IF('職員の構成（１片）'!A12="","",'職員の構成（１片）'!A12) | B13: ='職員の構成（１片）'!B12:C12 -> 0
A14: =IF('職員の構成（１片）'!A13="","",'職員の構成（１片）'!A13) | B14: ='職員の構成（１片）'!B13:C13 -> 0
A15: =IF('職員の構成（１片）'!A14="","",'職員の構成（１片）'!A14) | B15: ='職員の構成（１片）'!B14:C14 -> 0
A16: =IF('職員の構成（１片）'!A15="","",'職員の構成（１片）'!A15) | B16: ='職員の構成（１片）'!B15:C15 -> 0
A17: =IF('職員の構成（１片）'!A16="","",'職員の構成（１片）'!A16) | B17: ='職員の構成（１片）'!B16:C16 -> 0
... A29: =IF('職員の構成（１片）'!A28="","",'職員の構成（１片）'!A28) -> その他 (事務等) | B29: ='職員の構成（１片）'!B28:C28 -> 0
