Workbook

Sheet 8-1
A1: ８．障害者福祉
A3: (1) 障害者の手帳
A4: ８－１ 障害者の手帳 | AY4: （令和５年８月）
A5: ア．身体障害者手帳交付台帳登載状況（月末）
D6: 障害別登載数 | AN6: 新 規 交付数 | AQ6: 転入数 | AT6: 転 出 ・ 返還数
D7: 総 数 | G7: 視 覚 | J7: 聴覚・ 平 衡 機 能 | M7: 音声・ 言語・ そしゃ く機能 | P7: 肢 体 不自由 | S7: 内部障害
S8: 心 臓 機 能 | V8: じん臓 機 能 | Y8: 呼吸器 機 能 | AB8: 膀胱直 腸機能 | AE8: 小 腸 機 能 | AH8: 免 疫 機 能 | AK8: 肝 臓 機 能
A9: 総 数 | D9: =[1]心障センター!D8 -> 472170 | G9: =[1]心障センター!G8 -> 39812 | J9: =[1]心障センター!J8 -> 49334 | M9: =[1]心障センター!M8 -> 7630 | P9: =[1]心障センター!P8 -> 228298 | S9: =[1]心障センター!S8 -> 67763 | V9: =[1]心障センター!V8 -> 37631 | Y9: =[1]心障センター!Y8 -> 6716 | AB9: =[1]心障センター!AB8 -> 22720 | AE9: =[1]心障センター!AE8 -> 796 | AH9: =[1]心障センター!AH8 -> 10393 | AK9: =[1]心障センター!AK8 -> 1077 | AN9: =[1]心障センター!AN8 -> 1968 | AQ9: =[1]心障センター!AQ8 -> 228 | AT9: =[1]心障センター!AT8 -> 1749
D10: =[1]八王子市!E11 -> 15618 | G10: =[1]八王子市!I11 -> 1208 | J10: =[1]八王子市!M11 -> 1812 | M10: =[1]八王子市!Q11 -> 177 | P10: =[1]八王子市!U11 -> 6805 | S10: =[1]八王子市!Y11 -> 2708 | V10: =[1]八王子市!AC11 -> 1555 | Y10: =[1]八王子市!AG11 -> 200 | AB10: =[1]八王子市!AK11 -> 928 | AE10: =[1]八王子市!AO11 -> 20 | AH10: =[1]八王子市!AS11 -> 152 | AK10: =[1]八王子市!AW11 -> 53 | AN10: =[1]八王子市!BA11 -> 107 | AQ10: =[1]八王子市!BD11 -> 17 | AT10: =[1]八王子市!BG11 -> 91
A11: 18歳未満 | D11: =[1]心障センター!D10 -> 23592 | G11: =[1]心障センター!G10 -> 2049 | J11: =[1]心障センター!J10 -> 4605 | M11: =[1]心障センター!M10 -> 390 | P11: =[1]心障センター!P10 -> 14308 | S11: =[1]心障センター!S10 -> 1403 | V11: =[1]心障センター!V10 -> 153 | Y11: =[1]心障センター!Y10 -> 227 | AB11: =[1]心障センター!AB10 -> 226 | AE11: =[1]心障センター!AE10 -> 56 | AH11: =[1]心障センター!AH10 -> 1 | AK11: =[1]心障センター!AK10 -> 174 | AN11: =[1]心障センター!AN10 -> 58 | AQ11: =[1]心障センター!AQ10 -> 9 | AT11: =[1]心障センター!AT10 -> 12
D12: =[1]八王子市!E12 -> 363 | G12: =[1]八王子市!I12 -> 13 | J12: =[1]八王子市!M12 -> 46 | M12: =[1]八王子市!Q12 -> 2 | P12: =[1]八王子市!U12 -> 238 | S12: =[1]八王子市!Y12 -> 43 | V12: =[1]八王子市!AC12 -> 4 | Y12: =[1]八王子市!AG12 -> 6 | AB12: =[1]八王子市!AK12 -> 5 | AE12: =[1]八王子市!AO12 -> 1 | AH12: =[1]八王子市!AS12 -> 0 | AK12: =[1]八王子市!AW12 -> 5 | AN12: =[1]八王子市!BA12 -> 3 | AQ12: =[1]八王子市!BD12 -> 0 | AT12: =[1]八王子市!BG12 -> 0
A13: 18歳以上 | D13: =[1]心障センター!D12 -> 448578 | G13: =[1]心障センター!G12 -> 37763 | J13: =[1]心障センター!J12 -> 44729 | M13: =[1]心障センター!M12 -> 7240 | P13: =[1]心障センター!P12 -> 213990 | S13: =[1]心障センター!S12 -> 66360 | V13: =[1]心障センター!V12 -> 37478 | Y13: =[1]心障センター!Y12 -> 6489 | AB13: =[1]心障センター!AB12 -> 22494 | AE13: =[1]心障センター!AE12 -> 740 | AH13: =[1]心障センター!AH12 -> 10392 | AK13: =[1]心障センター!AK12 -> 903 | AN13: =[1]心障センター!AN12 -> 1910 | AQ13: =[1]心障センター!AQ12 -> 219 | AT13: =[1]心障センター!AT12 -> 1737
D14: =[1]八王子市!E13 -> 15255 | G14: =[1]八王子市!I13 -> 1195 | J14: =[1]八王子市!M13 -> 1766 | M14: =[1]八王子市!Q13 -> 175 | P14: =[1]八王子市!U13 -> 6567 | S14: =[1]八王子市!Y13 -> 2665 | V14: =[1]八王子市!AC13 -> 1551 | Y14: =[1]八王子市!AG13 -> 194 | AB14: =[1]八王子市!AK13 -> 923 | AE14: =[1]八王子市!AO13 -> 19 | AH14: =[1]八王子市!AS13 -> 152 | AK14: =[1]八王子市!AW13 -> 48 | AN14: =[1]八王子市!BA13 -> 104 | AQ14: =[1]八王子市!BD13 -> 17 | AT14: =[1]八王子市!BG13 -> 91
A15: (注) 平成27年４月１日付八王子市の中核市移行に伴い、身体障害者手帳交付事務が八王子市に移管されたため、八王子市分は( )内に別掲している。
A16: 資料：東京都心身障害者福祉センター（下段( )内を除く。）
A17: 障害者施策推進部施設サービス支援課（下段( )内）
A19: イ. 知的障害者「愛の手帳」の交付状況（交付台帳登載状況）（月末）
I20: 障害程度別交付数 | AM20: 新 規 交付数 | AS20: 返還数
I21: 総数 | O21: １ 度 （最 重 度） | U21: ２ 度 （重 度） | AA21: ３ 度 （中 度） | AG21: ４ 度 （軽 度）
A22: 総 数 | I22: 102091 | O22: 3283 | U22: 23831 | AA22: 23308 | AG22: 51669 | AM22: 330 | AS22: 76
A23: 0～6歳 (就学前) | I23: 1387 | O23: 37 | U23: 121 | AA23: 433 | AG23: 796 | AM23: 80 | AS23: 3
A24: 6～17歳 | I24: 13233 | O24: 30 | U24: 1533 | AA24: 3743 | AG24: 7927 | AM24: 173 | AS24: 24
A25: 18歳以上 | I25: 87471 | O25: 3216 | U25: 22177 | AA25: 19132 | AG25: 42946 | AM25: 77 | AS25: 49
A26: 資料：東京都心身障害者福祉センター
A28: ウ. 精神障害者保健福祉手帳本月交付件数及び本月末所持者数
A29: 区 分 | I29: 本月交付件数 | R29: 本月末所持者数
A30: 総 数 | I30: 6489 | R30: 153884
A31: 等級１ | I31: 350 | R31: 8563
A32: 等級２ | I32: 3149 | R32: 75660
A33: 等級３ | I33: 2990 | R33: 69661
A34: 資料：中部総合精神保健福祉センター
