Workbook

Sheet 【様式3】学則変更内容調書
A2: 学 則 変 更 内 容 調 書
K3: 学則変更内容 ⑤ について＊
K4: ＊該当するものを下記①～⑤から選んでください
K5: ①修業教科目、②単位数、③履修方法、④学生の定員、⑤その他
A6: 今回、行う学則変更の内容の概要 | F6: 学則変更を行う理由
F7: （１）なぜ、学則変更が必要であったのか (2)学則変更を行うことによってどのようなメリット
F8: があるのか （3）変更内容が妥当であるのか、具体的に記載してください。
F10: （１）
F15: （2）
F19: （3）
A26: 上記変更内容の 妥当性の判断 （都道府県で記入）

Sheet 【様式4-1】読替表（教養科目・変更用）
A2: 教科目名称の読み替え表
A5: 告示による教科目 | E5: 指定保育士養成施設における教科目の開設状況（旧） | J5: 指定保育士養成施設における教科目の開設状況（新）
A6: 系列 | B6: 教科目 | C6: 授業 | D6: 単位数 | E6: 左に対応して開設されて | F6: 授業 | G6: 単 位 数 | J6: 左に対応して開設されて | K6: 授業 | L6: 単 位 数 | O6: 備 考
C7: 形態 | E7: いる教科目 | F7: 形態 | G7: 必修 | H7: 選択 | I7: 計 | J7: いる教科目 | K7: 形態 | L7: 必修 | M7: 選択 | N7: 計 | O7: （変更内容の概要等）
A8: 教 養 科 目
B14: 外国語、体育 | C14: 不問 | D14: ６以上
B15: 以外の科目
B22: 外国語 | C22: 演習 | D22: ２以上
B23: 体 育 | C23: 講義 | D23: 1
C24: 実技 | D24: 1
A25: 合 計 | C25: １０単位以上 | G25: =SUM(G8:G24) -> 0 | H25: =SUM(H8:H24) -> 0 | I25: =SUM(I8:I24) -> 0 | L25: =SUM(L8:L24) -> 0 | M25: =SUM(M8:M24) -> 0 | N25: =SUM(N8:N24) -> 0
E26: =I25 -> 0 | J26: =N25 -> 0

Sheet 【様式4-1】読替表（必修科目・変更用）
A5: 告示別表第１による教科目 | E5: 指定保育士養成施設における教科目の開設状況（旧） | J5: 指定保育士養成施設における教科目の開設状況（新）
A6: 系列 | B6: 教科目 | C6: 授業 | D6: 単位数 | E6: 左に対応して開設されて | F6: 授業 | G6: 単 位 数 | J6: 左に対応して開設されて | K6: 授業 | L6: 単 位 数 | O6: 備 考
C7: 形態 | E7: いる教科目 | F7: 形態 | G7: 必修 | H7: 選択 | I7: 計 | J7: いる教科目 | K7: 形態 | L7: 必修 | M7: 選択 | N7: 計 | O7: （変更内容の概要等）
A8: 保育の本質・目的に関する科目 | B8: 保育原理 | C8: 講義 | D8: 2
B9: 教育原理 | C9: 講義 | D9: 2
B10: 子ども家庭福祉 | C10: 講義 | D10: 2
B11: 社会福祉 | C11: 講義 | D11: 2
B12: 子ども家庭支援論 | C12: 講義 | D12: 2
B13: 社会的養護Ⅰ | C13: 講義 | D13: 2
B14: 保育者論 | C14: 講義 | D14: 2
A15: 保育の対象の理解に関する科目 | B15: 保育の心理学 | C15: 講義 | D15: 2
B16: 子ども家庭支援の心理学 | C16: 講義 | D16: 2
B17: 子どもの理解と援助 | C17: 演習 | D17: 1
B18: 子どもの保健 | C18: 講義 | D18: 2
B19: 子どもの食と栄養 | C19: 演習 | D19: 2
A20: 保育の内容・方法に関する科目 | B20: 保育の計画と評価 | C20: 講義 | D20: 2
B21: 保育内容総論 | C21: 演習 | D21: 1
B22: 保育内容演習 | C22: 演習 | D22: 5
B27: 保育内容の理解と方法 | C27: 演習 | D27: 4
B31: 乳児保育Ⅰ | C31: 講義 | D31: 2
B32: 乳児保育Ⅱ | C32: 演習 | D32: 1
B33: 子どもの健康と安全 | C33: 演習 | D33: 1
B34: 障害児保育 | C34: 演習 | D34: 2
B35: 社会的養護Ⅱ | C35: 演習 | D35: 1
B36: 子育て支援 | C36: 演習 | D36: 1
A37: 保育実習 | B37: 保育実習Ⅰ | C37: 実習 | D37: 4
B38: 保育実習指導Ⅰ | C38: 演習 | D38: 2
A39: 総合演習 | B39: 保育実践演習 | C39: 演習 | D39: 2
A40: 合 計 | C40: ５1単位 | G40: =SUM(G8:G39) -> 0 | H40: =SUM(H8:H39) -> 0 | I40: =SUM(I8:I39) -> 0 | L40: =SUM(L8:L39) -> 0 | M40: =SUM(M8:M39) -> 0 | N40: =SUM(N8:N39) -> 0
E41: =I40 -> 0 | J41: =N40 -> 0

Sheet 【様式4-1】読替表（選択必修科目・変更用）
A5: 告示別表第２による教科目 | E5: 指定保育士養成施設における教科目の開設状況（旧） | J5: 指定保育士養成施設における教科目の開設状況（新）
A6: 系列 | B6: 教科目 | C6: 授業 | D6: 単位数 | E6: 左に対応して開設されて | F6: 授業 | G6: 単 位 数 | J6: 左に対応して開設されて | K6: 授業 | L6: 単 位 数 | O6: 備 考
C7: 形態 | E7: いる教科目 | F7: 形態 | G7: 必修 | H7: 選択 | I7: 計 | J7: いる教科目 | K7: 形態 | L7: 必修 | M7: 選択 | N7: 計 | O7: （変更内容の概要等）
A8: 保育の本質・目 的に関する科目
A15: 保育の対象の理 解に関する科目
B17: 各指定保育士養成 施設において設定
D18: １５以上
A22: 保育の内容・方 法に関する科目
A29: 保育 実習 | B29: 保育実習Ⅱ又は 保育実習Ⅲ | C29: 実習 | D29: 2
B30: 保育実習指導Ⅱ又は 保育実習指導Ⅲ | C30: 演習 | D30: 1
A31: 合 計 | C31: １８単位以上 | G31: =SUM(G8:G30) -> 0 | H31: =SUM(H8:H30) -> 0 | I31: =SUM(I8:I30) -> 0 | L31: =SUM(L8:L30) -> 0 | M31: =SUM(M8:M30) -> 0 | N31: =SUM(N8:N30) -> 0
E32: =I31 -> 0 | J32: =N31 -> 0

Sheet 【様式4-1】読替表（独自科目及び集計表・変更用）
E5: 指定保育士養成施設における教科目の開設状況（旧） | M5: 指定保育士養成施設における教科目の開設状況（新） | U5: 備 考
E6: 左に対応して開設されている教科目 | I6: 授業 | J6: 単 位 数 | M6: 左に対応して開設されている教科目 | Q6: 授業 | R6: 単 位 数
I7: 形態 | J7: 必修 | K7: 選択 | L7: 計 | Q7: 形態 | R7: 必修 | S7: 選択 | T7: 計 | U7: （変更内容の概要等）
A9: 保育士資格取得科目ではないが、学校独自の科目として開設されている教科目
A16: 合 計 | J16: =SUM(J8:J15) -> 0 | K16: =SUM(K8:K15) -> 0 | L16: =SUM(L8:L15) -> 0 | R16: =SUM(R8:R15) -> 0 | S16: =SUM(S8:S15) -> 0 | T16: =SUM(T8:T15) -> 0
A19: 【設置単位数】
A21: 教科目の種別 | C21: 設置単位数 | E21: 単位数（旧） | H21: 単位数（新） | K21: 備 考
E22: 必修 | F22: 選択 | G22: 計 | H22: 必修 | I22: 選択 | J22: 計 | K22: （変更内容の概要等）
A23: 教 養 科 目 | C23: １０単位以上 | E23: ='【様式4-1】読替表（教養科目・変更用）'!G25 -> 0 | F23: ='【様式4-1】読替表（教養科目・変更用）'!H25 -> 0 | G23: ='【様式4-1】読替表（教養科目・変更用）'!I25 -> 0 | H23: ='【様式4-1】読替表（教養科目・変更用）'!L25 -> 0 | I23: ='【様式4-1】読替表（教養科目・変更用）'!M25 -> 0 | J23: ='【様式4-1】読替表（教養科目・変更用）'!N25 -> 0
A24: 告示別表第１による 教科目 | C24: ５１単位以上 | E24: ='【様式4-1】読替表（必修科目・変更用）'!G40 -> 0 | F24: ='【様式4-1】読替表（必修科目・変更用）'!H40 -> 0 | G24: ='【様式4-1】読替表（必修科目・変更用）'!I40 -> 0 | H24: ='【様式4-1】読替表（必修科目・変更用）'!L40 -> 0 | I24: ='【様式4-1】読替表（必修科目・変更用）'!M40 -> 0 | J24: ='【様式4-1】読替表（必修科目・変更用）'!N40 -> 0
A25: 告示別表第２による 教科目 | C25: １８単位以上 | E25: ='【様式4-1】読替表（選択必修科目・変更用）'!G31 -> 0 | F25: ='【様式4-1】読替表（選択必修科目・変更用）'!H31 -> 0 | G25: ='【様式4-1】読替表（選択必修科目・変更用）'!I31 -> 0 | H25: ='【様式4-1】読替表（選択必修科目・変更用）'!L31 -> 0 | I25: ='【様式4-1】読替表（選択必修科目・変更用）'!M31 -> 0 | J25: ='【様式4-1】読替表（選択必修科目・変更用）'!N31 -> 0
A26: 小 計 | E26: =SUM(E23:E25) -> 0 | F26: =SUM(F23:F25) -> 0 | G26: =SUM(G23:G25) -> 0 | H26: =SUM(H23:H25) -> 0 | I26: =SUM(I23:I25) -> 0 | J26: =SUM(J23:J25) -> 0
A27: 保育士資格取得科目ではないが、学校独自の科目として開設されている教科目 | E27: =J16 -> 0 | F27: =K16 -> 0 | G27: =L16 -> 0 | H27: =R16 -> 0 | I27: =S16 -> 0 | J27: =T16 -> 0
A28: 合 計 | E28: =SUM(E26:E27) -> 0 | F28: =SUM(F26:F27) -> 0 | G28: =SUM(G26:G27) -> 0 | H28: =SUM(H26:H27) -> 0 | I28: =SUM(I26:I27) -> 0 | J28: =SUM(J26:J27) -> 0
A29: 卒業に必要な単位数
A31: 【保育士資格取得に必要な履修単位数】
A33: 教科目の種別 | C33: 保育士資格取得に必要な履修単位数 | E33: 単位数（旧） | H33: 単位数（新） | K33: 備 考
E34: 必修 | F34: 選択 | G34: 計 | H34: 必修 | I34: 選択 | J34: 計 | K34: （変更内容の概要等）
A35: 教 養 科 目 | C35: ８単位以上 | G35: =SUM(E35:F35) -> 0 | J35: =SUM(H35:I35) -> 0
A36: 告示別表第１による 教科目 | C36: ５１単位以上 | G36: =SUM(E36:F36) -> 0 | J36: =SUM(H36:I36) -> 0
A37: 告示別表第２による 教科目 | C37: ９単位以上 | G37: =SUM(E37:F37) -> 0 | J37: =SUM(H37:I37) -> 0
A38: 計 | E38: =SUM(E35:E37) -> 0 | F38: =SUM(F35:F37) -> 0 | G38: =SUM(G35:G37) -> 0 | H38: =SUM(H35:H37) -> 0 | I38: =SUM(I35:I37) -> 0 | J38: =SUM(J35:J37) -> 0
B40: ※保育士資格取得に必要な修業教科目及び単位数並びに履修方法に関する事項について、その内容が確認できる根拠規程（学則・細則等）を添付すること。
