Workbook
Name _new1: [1]【参考】サービス名一覧!$A$4:$A$27
Name _new1: 【参考】サービス名一覧!$A$4:$A$27
Name erea: 【参考】サービス名一覧!$A$3:$A$27
Name erea: #REF!
Name new: 【参考】サービス名一覧!$A$4:$A$27
Name new: #REF!
Name www: #REF!
Name www: #REF!
Name サービス: #REF!
Name サービス: #REF!
Name サービス: #REF!
Name サービス２: #REF!
Name サービス種別: [2]サービス種類一覧!$B$4:$B$20
Name サービス種類: [3]サービス種類一覧!$C$4:$C$20
Name サービス名: 【参考】サービス名一覧!$A$3:$A$20
Name サービス名: [4]別表加算率一覧!$A$5:$A$28
Name サービス名: #REF!
Name サービス名: #REF!
Name サービス名: #REF!
Name サービス名称: #REF!
Name 一覧: [5]加算率一覧!$A$4:$A$25
Name 種類: [6]サービス種類一覧!$A$4:$A$20
Name 特定: #REF!
Name 特定: #REF!

Sheet はじめに
A1: 介護職員処遇改善実績報告書・介護職員等特定処遇改善実績報告書 作成にあたっての入力シート等の説明
A2: 令和３年度の処遇改善加算等に係る実績報告書の作成方法をご説明しています
A4: ワークシート名（左からの順） | B4: 枚数 | C4: ワークシートの入力の順番（推奨） | D4: 説明 | E4: 提出の要否
A5: はじめに | B5: 1 | C5: - | D5: ・本様式の内容と使い方を説明しています。 | E5: 不要
A6: 基本情報入力シート | B6: 1 | C6: ① | D6: ・法人の基本的な情報を入力することで、様式3-1及び様式3-2へ自動的に転記が行われるため、こちらから入力してください。 ・本シートは提出不要です。 | E6: 不要
A7: 別紙様式3-1 | B7: 1 | C7: ③ | D7: ・計画書の基準額や賃金改善を実施したグループ等をを入力します。 ・別紙様式3-2に事業所毎の加算総額や賃金総額、常勤換算職員数等を入力後、賃金改善所要額が加算の総額を上回っていること、平均賃金改善額が配分比率の要件を満たしていること等を確認します。 | E7: 提出
A8: 別紙様式3-2 | B8: ―（一括申請する事業所数により異なる） | C8: ② | D8: ・計画書の別紙様式２－２又は別紙様式２－３で届け出た事業所について、事業所毎の加算総額や賃金総額、常勤換算職員数等を入力します。 | E8: 提出
A16: ２ 書類の作成方法
A17: ●令和２年度からの主な変更点・注意点は下記のとおりです。
A18: ・介護職員処遇改善実績報告書と介護職員等特定処遇改善実績報告書を一本化しました。
A19: ・原則、本様式を用いて実績報告書を作成してください。
A20: ・複数事業所を一括して申請する際の指定権者別・都道府県別一覧表は不要となりました。
A21: ・「賃金改善所要額」の比較対象となる年度は、「初めて加算を取得する（した）前年度」ではなく「（申請の）前年度」となりました。
A22: ・特定加算の平均賃金改善額について、計算方法が変更されました。（下図参照）
D24: 従来 | E24: 見直し後
C25: 計画
C27: 実績
A30: ●令和３年度からの主な変更点は下記のとおりです。
A31: ・職場環境等要件に基づく取組の実施について、過去ではなく、当該年度における取組の実施を求めることとしました。
A32: ・特定加算の平均賃金改善額の配分ルールにおける「経験・技能のある介護職員」は「他の介護職員」の「２倍以上であること」について、「経験・技能のある介護職員」は「他の介護職員」「と比較し高いこと」を求めることとしました。

Sheet 基本情報入力シート
A1: 実績報告書（介護職員処遇改善実績報告書・介護職員等特定処遇改善実績報告書）作成用 基本情報入力シート | AC1: ↓隠し列
A2: 【注意】本シートは様式作成用のため、提出は不要です。
A4: ●次の情報を本シートの黄色セルに入力することで、各様式に自動的に転記されます。
A5: ・提出先に関する情報
A6: ・基本情報
A7: ・加算対象事業所に関する情報
A9: １ 提出先に関する情報
B10: 処遇改善加算・特定加算の届出に係る提出先（指定権者）の名称を入力してください。
B11: 提出先 | C11: 東京都
A13: ２ 基本情報
B14: ⇒下表に必要事項を入力してください。
B15: 法人名 | C15: フリガナ | M15: ○○ケアサービス
C16: 名称 | M16: ○○ケアサービス | AC16: 〒結合
B17: 法人住所 | C17: 〒 | M17: 1 | N17: 0 | O17: 0 | P17: － | Q17: 1 | R17: 2 | S17: 3 | T17: 4 | AC17: =CONCATENATE(M17,N17,O17,P17,Q17,R17,S17,T17) -> 100－1234
C18: 住所１（番地・住居番号まで） | M18: 千代田区霞が関１－２－２
C19: 住所２（建物名等） | M19: ○○ビル18Ｆ
B20: 法人代表者 | C20: 職名 | M20: 代表取締役
C21: 氏名 | M21: 厚労 花子
B22: 書類作成 担当者 | C22: フリガナ | M22: コウロウ タロウ
C23: 氏名 | M23: 厚労 太郎
B24: 連絡先 | C24: 電話番号 | M24: 03-3571-0000
C25: FAX番号 | M25: 03-3571-9999
C26: e-mail | M26: aaa@aaa.aa.jp
A28: ３ 加算・補助金対象事業所に関する情報
B29: 下表に必要事項を入力してください。記入内容が別紙様式に反映されます。
B31: 通し番号 | C31: 介護保険事業所番号 | M31: 指定権者名 | R31: 事業所の所在地 | X31: 事業所名 | Y31: サービス名
R32: 都道府県 | W32: 市区町村
B33: 1 | C33: 1 | D33: 3 | E33: 3 | F33: 4 | G33: 5 | H33: 6 | I33: 7 | J33: 8 | K33: 9 | L33: 0 | M33: 東京都 | R33: 東京都 | W33: 千代田区 | X33: 介護保険事業所名称０１ | Y33: 訪問介護
B34: =B33+1 -> 2 | C34: 1 | D34: 3 | E34: 3 | F34: 4 | G34: 5 | H34: 6 | I34: 7 | J34: 8 | K34: 9 | L34: 0 | M34: 東京都 | R34: 東京都 | W34: 豊島区 | X34: 介護保険事業所名称０２ | Y34: 通所介護
B35: =B34+1 -> 3 | C35: 1 | D35: 3 | E35: 3 | F35: 4 | G35: 5 | H35: 6 | I35: 7 | J35: 8 | K35: 9 | L35: 0 | M35: 世田谷区 | R35: 東京都 | W35: 世田谷区 | X35: 介護保険事業所名称０３ | Y35: 定期巡回･随時対応型訪問介護看護
B36: =B35+1 -> 4 | C36: 1 | D36: 1 | E36: 3 | F36: 4 | G36: 5 | H36: 6 | I36: 7 | J36: 8 | K36: 9 | L36: 0 | M36: さいたま市 | R36: 埼玉県 | W36: さいたま市 | X36: 介護保険事業所名称０４ | Y36: 介護老人福祉施設
B37: =B36+1 -> 5 | C37: 1 | D37: 4 | E37: 3 | F37: 4 | G37: 5 | H37: 6 | I37: 7 | J37: 8 | K37: 9 | L37: 0 | M37: 横浜市 | R37: 神奈川県 | W37: 横浜市 | X37: 介護保険事業所名称０５ | Y37: （介護予防）小規模多機能型居宅介護
B38: =B37+1 -> 6 | C38: 1 | D38: 2 | E38: 3 | F38: 4 | G38: 5 | H38: 6 | I38: 7 | J38: 8 | K38: 9 | L38: 6 | M38: 千葉県 | R38: 千葉県 | W38: 千葉市 | X38: 介護保険事業所名称０６ | Y38: 介護老人保健施設
B39: =B38+1 -> 7 | C39: 1 | D39: 2 | E39: 3 | F39: 4 | G39: 5 | H39: 6 | I39: 7 | J39: 8 | K39: 9 | L39: 6 | M39: 千葉県 | R39: 千葉県 | W39: 千葉市 | X39: 介護保険事業所名称０６ | Y39: （介護予防）短期入所療養介護（老健）
B40: =B39+1 -> 8
B41: =B40+1 -> 9
B42: =B41+1 -> 10
B43: =B42+1 -> 11
B44: =B43+1 -> 12
B45: =B44+1 -> 13
B46: =B45+1 -> 14
B47: =B46+1 -> 15
B48: =B47+1 -> 16
B49: =B48+1 -> 17
B50: =B49+1 -> 18
B51: =B50+1 -> 19
... B132: =B131+1 -> 100

Sheet 別紙様式3-1
A1: 別紙様式３－１ | Y1: 提出先 | AC1: =IF(基本情報入力シート!C11="","",基本情報入力シート!C11) -> 東京都
A3: 介護職員処遇改善実績報告書・介護職員等特定処遇改善実績報告書（令和 | AH3: 年度）
A6: １ 基本情報
A8: フリガナ | G8: =IF(基本情報入力シート!M15="","",基本情報入力シート!M15) -> ○○ケアサービス
A9: 法人名 | G9: =IF(基本情報入力シート!M16="","",基本情報入力シート!M16) -> ○○ケアサービス
A10: 法人所在地 | G10: 〒 | H10: =IF(基本情報入力シート!AC17="","",基本情報入力シート!AC17) -> 100－1234
G11: =IF(基本情報入力シート!M18="","",基本情報入力シート!M18) -> 千代田区霞が関１－２－２
G12: =IF(基本情報入力シート!M19="","",基本情報入力シート!M19) -> ○○ビル18Ｆ
A13: フリガナ | G13: =IF(基本情報入力シート!M22="","",基本情報入力シート!M22) -> コウロウ タロウ
A14: 書類作成担当者 | G14: =IF(基本情報入力シート!M23="","",基本情報入力シート!M23) -> 厚労 太郎
A15: 連絡先 | G15: 電話番号 | K15: =IF(基本情報入力シート!M24="","",基本情報入力シート!M24) -> 03-3571-0000 | P15: FAX番号 | T15: =IF(基本情報入力シート!M25="","",基本情報入力シート!M25) -> 03-3571-9999 | Y15: E-mail | AC15: =IF(基本情報入力シート!M26="","",基本情報入力シート!M26) -> aaa@aaa.aa.jp
A18: 【本報告書で報告する加算】 加算名称にチェックを入れること。
D19: 介護職員処遇改善加算（処遇改善加算） | U19: 介護職員等特定処遇改善加算（特定加算）
A22: ２ 実績報告＜共通＞ | L22: ※詳細は別紙様式３－２に記載
B23: ※本様式では以下の要件を確認しており、オレンジセルが「○」でない場合、加算取得の要件を満たしていない。 Ⅰ加算による賃金改善を行う総額が、加算による収入額以上であること Ⅱ（特定加算のみ）グループ毎の平均賃金改善額が配分ルールを満たしていること Ⅲ（特定加算のみ）経験・技能のある介護職員（A）のうち、１人以上は月額８万円の改善または改善後の賃金が年額440万円以上となっていること（その人数は法人一括で申請する事業所の数に応じて設定）
S24: 処遇改善加算 | AB24: 特定加算 | AL24: 要件Ⅰ
A25: ① | B25: 令和 | D25: =IF($AF$3=0,"",AF3) | F25: 年度分の加算の総額 | S25: =IF('別紙様式3-2'!Q7=0,"",'別紙様式3-2'!Q7) -> 54637200 | Z25: 円 | AB25: =IF('別紙様式3-2'!Q8=0,"",'別紙様式3-2'!Q8) -> 19158216 | AI25: 円 | AK25: <- | AL25: =IF(S25="","",IF(S26="","",IF(S26>=S25,"○","☓"))) -> ○ | AM25: 処遇加算 | AN25: ！この欄が○でない場合、処遇改善加算による賃金改善の見込額が要件を満たしていません。
A26: ② | B26: 賃金改善所要額（ⅰ－ⅱ） | R26: (右欄の額は①欄の額以上であること) | S26: =IF(S27="","",(S27-S32)) -> 54818336 | Z26: 円 | AB26: =IF(AB27="","",(AB27-AB32)) -> 19173720 | AI26: 円 | AK26: <- | AL26: =IF(AB25="","",IF(AB26="","",IF(AB26>=AB25,"○","☓"))) -> ○ | AM26: 特定加算 | AN26: ！この欄が○でない場合、特定加算による賃金改善の見込額が要件を満たしていません。
B27: ⅰ）加算の算定により賃金改善を行った賃金の総額 | S27: =IFERROR(S28-S30-S31,"") -> 342818336 | Z27: 円 | AB27: =IFERROR(AB28-AB29-AB31,"") -> 385373720 | AI27: 円
C28: (a)本年度の賃金の総額 | S28: =IF('別紙様式3-2'!X7=0,"",'別紙様式3-2'!X7) -> 361045449 | Z28: 円 | AB28: =IF('別紙様式3-2'!X8=0,"",'別紙様式3-2'!X8) -> 442345960 | AI28: 円
C29: (b)介護職員処遇改善加算の総額 | AB29: ='別紙様式3-2'!Q7 -> 54637200 | AI29: 円
C30: (c)介護職員等特定処遇改善加算の総額 （その他の職員への支給分を除く） | S30: ='別紙様式3-2'!Q8-'別紙様式3-2'!T8 -> 16361730 | Z30: 円
C31: (d)処遇改善支援補助金による賃金改善の総額 | S31: =IF(('別紙様式3-2'!R10+'別紙様式3-2'!S10)=0,"0",('別紙様式3-2'!R10+'別紙様式3-2'!S10)) -> 1865383 | Z31: 円 | AB31: =IF('別紙様式3-2'!Q10=0,"0",'別紙様式3-2'!Q10) -> 2335040 | AI31: 円
B32: ⅱ）前年度の賃金の総額【基準額１】【基準額２】 | S32: 288000000 | Z32: 円 | AB32: 366200000 | AI32: 円
B34: ※②ⅰ）(a)「本年度の賃金の総額」には、賃金改善に伴う法定福利費等の事業主負担の増加分を含めることができる。
B35: ※②ⅱ）「前年度の賃金の総額」【基準額１】【基準額２】には、計画書の（１）④ⅱ）又は（２）⑥ⅱ）の額を記載することとしているが、職員構成が変わった等の事由により修正することが可能である。
A37: ③ | B37: 平均賃金改善額＜特定＞
K39: 賃金改善を実施した グループ | N39: 前年度の平均賃金額(月額)【基準額３】 | S39: 本年度の平均賃金額(月額) | X39: 平均賃金改善額 | AC39: (配分比率) | AF39: （ｅ）改善後の賃金が最も高額となった者の賃金(年額) | AL39: 要件Ⅱ
A40: （Ａ）経験・技能のある介護職員 | L40: TRUE | N40: 230978 | R40: 円 | S40: =IF(L40,('別紙様式3-2'!Y8-'別紙様式3-2'!R7-'別紙様式3-2'!R10)/'別紙様式3-2'!AB8,"（対象外）") -> 257127.13 | W40: =IF($L40,"円","") -> 円 | X40: =IF(L40,S40-N40,"（対象外）") -> 26149.126 | AB40: =IF($L40,"円","") -> 円 | AC40: =IF(AND(L40,L41),X40/X41,IF(AND(L40,L42),X40/X42,"-")) -> 2.0417368 | AK40: <- | AL40: =IFERROR(IF(AND(L40,L41),IF(AC40>=1,"○","☓"),IF(AND(L40,L42),IF(AC40>=2,"○","☓"),"")),"") -> ○ | AM40: A＞BかつA＞2C | AN40: ！この欄が☓の場合、A:BまたはA:Cの配分比率が要件を満たしていません。
A41: （Ｂ）他の介護職員 | L41: TRUE | N41: 206903 | R41: 円 | S41: =IF(L41,('別紙様式3-2'!Z8-'別紙様式3-2'!S7-'別紙様式3-2'!S10)/'別紙様式3-2'!AC8,"（対象外）") -> 219710.3 | W41: =IF($L41,"円","") -> 円 | X41: =IF(L41,S41-N41,"（対象外）") -> 12807.295 | AB41: =IF($L41,"円","") -> 円 | AC41: =IF(AND(L41,OR(L40,L42)),1,"-") -> 1 | AK41: <- | AL41: =IFERROR(IF(AND(L41,L42),IF(AC42<=0.5,"○","☓"),""),"") -> ○ | AM41: B≧２C | AN41: ！この欄が☓の場合、B:Cの配分比率が要件を満たしていません。
A42: （Ｃ）その他の職種 | L42: TRUE | N42: 190114 | R42: 円 | S42: =IF(L42,('別紙様式3-2'!AA8-'別紙様式3-2'!T10)/'別紙様式3-2'!AD8,"（対象外）") -> 196143.64 | W42: =IF($L42,"円","") -> 円 | X42: =IF(L42,S42-N42,"（対象外）") -> 6029.6439 | AB42: =IF($L42,"円","") -> 円 | AC42: =IF(AND(L41,L42),X42/X41,IF(AND(L40,L42),1,"-")) -> 0.4707976 | AF42: 3000000 | AJ42: 円 | AN42: =IFERROR(IF(AF42<=4400000,"○","☓"),"") -> ○ | AO42: ！この欄が☓の場合、Cのうち改善後の賃金が最も高額となった者の賃金が440万円を超えています。
B43: ※「前年度の平均賃金額（月額）」【基準額３】には、計画書（２）⑦ⅳ）の額を記載することとしているが、職員構成が変わった等の事由により修正することが可能である。 ※③（ｅ）における（C）その他の職種の職員について、（賃金改善前の賃金が計画書の作成時点で既に年額440万円を上回る場合、当該職員は特定加算による賃金改善の対象とならないが、）特定加算による賃金改善後の賃金が計画書の作成時点では年額440万円を上回らない見込みであった（C）その他の職種の賃金が、介護職員処遇改善支援補助金による賃金改善によって年額440万円を上回った場合には、令和３年度の実績報告書において、同補助金による賃金改善額を除いて計算することが可能である。 | AM43: <- | AN43: =IFERROR(IF(OR(AND(NOT(L40),NOT(L41),NOT(L42)),AND(NOT(L40),NOT(L41),L42)),"☓","○"),"") -> ○ | AO43: ！この欄が☓の場合、「賃金改善を実施したグループ」の選択方法が不適当です。
AL44: 要件Ⅲ
A45: ④ | B45: 月額平均８万円又は改善後の賃金が年額440万円となった者＜特定＞ | X45: いずれかに該当する人数 | AF45: =IF('別紙様式3-2'!AE8=0,"",'別紙様式3-2'!AE8) | AI45: 人 | AK45: <- | AL45: =IF('別紙様式3-2'!AF8="","",IF(AND('別紙様式3-2'!AF8>=1),IF(OR(C48:C51),"○","☓"),"○")) -> ○ | AM45: Aのうち１人以上が該当 | AN45: ！この欄が☓の場合、「設定できない事業所があった場合その理由」欄にチェックが必要です。
B47: （設定できない事業所があった場合その理由） ※複数回答可
C48: FALSE | D48: 小規模事業所等で加算額全体が少額であるため。
C49: FALSE | D49: 職員全体の賃金水準が低く、直ちに月額平均８万円等まで賃金を引き上げることが困難であるため。
C50: FALSE | D50: 月額平均８万円等の賃金改善を行うに当たり、これまで以上に事業所内の階層や役職にある者に求められる能力や処遇を明確化することが必要であり、規程の整備や研修・実務経験の蓄積などに一定期間を要するため。
C51: FALSE | D51: その他 | F51: （ | AI51: ）
A54: ※ | B54: 給与明細や勤務記録等、実績報告の根拠となる資料は、指定権者からの求めがあった場合に速やかに提出できるよう、適切に保管しておくこと。
A55: ※ | B55: 介護職員処遇改善加算及び介護職員等特定処遇改善加算に関して、虚偽や不正があった場合には、支払われた介護給付費の返還や介護事業者の指定取消となる場合があるので留意すること。
A57: ⑤職場環境等要件に基づいて実施した取組について＜全体＞
AF58: ※今年度に提出した計画書の記載内容から変更がない場合は「変更なし」にチェック（✔） | AH58: 変更なし
A59: 【処遇改善加算】 届出に係る計画の期間中に、全体で必ず１つ以上の取組を行うことが必要であること 【特定加算】 届出に係る計画の期間中に、「入職促進に向けた取組」、「資質の向上やキャリアアップに向けた支援」、「両立支援・多様な働き方の推進」、「腰痛を含む心身の健康管理」、「生産性向上のための業務改善の取組」、「やりがい・働きがいの醸成」について、それぞれ１つ以上の取組を行うことが必要であること。
A61: 区分 | E61: 内容
A62: 入職促進に向けた取組 | F62: 法人や事業所の経営理念やケア方針・人材育成方針、その実現のための施策・仕組みなどの明確化
F63: 事業者の共同による採用・人事ローテーション・研修のための制度構築
F64: 他産業からの転職者、主婦層、中高年齢者等、経験者・有資格者等にこだわらない幅広い採用の仕組みの構築
F65: 職業体験の受入れや地域行事への参加や主催等による職業魅力度向上の取組の実施
A66: 資質の向上やキャリアアップに向けた支援 | F66: 働きながら介護福祉士取得を目指す者に対する実務者研修受講支援や、より専門性の高い介護技術を取得しようとする者に対する喀痰吸引、認知症ケア、サービス提供責任者研修、中堅職員に対するマネジメント研修の受講支援等
F67: 研修の受講やキャリア段位制度と人事考課との連動
F68: エルダー・メンター（仕事やメンタル面のサポート等をする担当者）制度等導入
F69: 上位者・担当者等によるキャリア面談など、キャリアアップ等に関する定期的な相談の機会の確保
A70: 両立支援・多様な働き方の推進 | F70: 子育てや家族等の介護等と仕事の両立を目指す者のための休業制度等の充実、事業所内託児施設の整備
F71: 職員の事情等の状況に応じた勤務シフトや短時間正規職員制度の導入、職員の希望に即した非正規職員から正規職員への転換の制度等の整備
F72: 有給休暇が取得しやすい環境の整備
F73: 業務や福利厚生制度、メンタルヘルス等の職員相談窓口の設置等相談体制の充実
A74: 腰痛を含む心身の健康管理 | F74: 介護職員の身体の負担軽減のための介護技術の修得支援、介護ロボットやリフト等の介護機器等導入及び研修等による腰痛対策の実施
F75: 短時間勤務労働者等も受診可能な健康診断・ストレスチェックや、従業員のための休憩室の設置等健康管理対策の実施
F76: 雇用管理改善のための管理者に対する研修等の実施
F77: 事故・トラブルへの対応マニュアル等の作成等の体制の整備
A78: 生産性向上のための業務改善の取組 | F78: タブレット端末やインカム等のＩＣＴ活用や見守り機器等の介護ロボットやセンサー等の導入による業務量の縮減
F79: 高齢者の活躍（居室やフロア等の掃除、食事の配膳・下膳などのほか、経理や労務、広報なども含めた介護業務以外の業務の提供）等による役割分担の明確化
F80: ５S活動（業務管理の手法の１つ。整理・整頓・清掃・清潔・躾の頭文字をとったもの）等の実践による職場環境の整備
F81: 業務手順書の作成や、記録・報告様式の工夫等による情報共有や作業負担の軽減
A82: やりがい・働きがいの醸成 | F82: ミーティング等による職場内コミュニケーションの円滑化による個々の介護職員の気づきを踏まえた勤務環境やケア内容の改善
F83: 地域包括ケアの一員としてのモチベーション向上に資する、地域の児童・生徒や住民との交流の実施
F84: 利用者本位のケア方針など介護保険や法人の理念等を定期的に学ぶ機会の提供
F85: ケアの好事例や、利用者やその家族からの謝意等の情報を共有する機会の提供
A87: ⑥その他（やむを得ず配分比率を満たすことができなくなった場合等については、下記の欄に記載すること。）
B91: 実績報告書の記載内容に虚偽がないことを証明するとともに、記載内容を証明する資料を適切に保管していることを誓約します。
C93: 令和 | G93: 年 | J93: 月 | M93: 日 | R93: （法人名）
R94: （代表者名）
B97: .

Sheet 別紙様式3-2
A1: 別紙様式３－２ | I1: 介護職員処遇改善実績報告書・介護職員等特定処遇改善実績報告書（施設・事業所別個表）
A3: 法人名 | D3: =IF(基本情報入力シート!M16="","",基本情報入力シート!M16) -> ○○ケアサービス
Q5: 本年度の加算の総額［円］ | R5: （グループ別内訳） | X5: 本年度の賃金の総額［円］ | Y5: （グループ別内訳） | AB5: 本年度の常勤換算職員数［人］ | AE5: 経験・技能のある介護職員のうち月平均8万円以上又は年額440万円以上［人］
R6: 経験・技能のある介護職員(A) | S6: 他の 介護職員(B) | T6: その他の職種 (C) | Y6: 経験・技能のある介護職員(A) | Z6: 他の 介護職員(B) | AA6: その他の職種(C) | AB6: 経験・技能のある介護職員(A) | AC6: 他の 介護職員(B) | AD6: その他の職種(C) | AF6: 未設定の 事業所
B7: 処遇改善加算 | Q7: =SUM(S19:S118) -> 54637200 | R7: =SUM(T19:T118) -> 9026914 | S7: =SUM(U19:U118) -> 45610286 | V7: 処遇改善加算の対象者 | X7: =SUM(V19:V118) -> 361045449
B8: 特定加算 | Q8: =SUM(X19:X118) -> 19158216 | R8: =SUM(Y19:Y118) -> 10935631 | S8: =SUM(Z19:Z118) -> 5426099 | T8: =SUM(AA19:AA118) -> 2796486 | V8: 特定加算の対象者 | X8: =SUM(Y8:AA8) -> 442345960 | Y8: =SUM(AB19:AB118) -> 67897532 | Z8: =SUM(AC19:AC118) -> 293128361 | AA8: =SUM(AD19:AD118) -> 81320067 | AB8: =SUM(AE19:AE118) -> 226.2 | AC8: =SUM(AF19:AF118) -> 1121.3 | AD8: =SUM(AG19:AG118) -> 412.2 | AE8: =SUM(AH19:AH118) -> 0 | AF8: =IF(COUNTA(AE19:AF118)=0,"",(COUNTIFS(AH19:AH118,"",AF19:AF118,">０")+COUNTIFS(AH19:AH118,"",AE19:AE118,">０")-COUNTIFS(AE19:AE118,">0",AF19:AF118,">０",AH19:AH118,""))) -> 0
Q9: 本年度の総額［円］ | R9: 経験・技能のある介護職員(A) | S9: 他の 介護職員(B) | T9: その他の職種 (C)
B10: 処遇改善支援補助金による賃金改善の総額 | Q10: =R10+S10+T10 -> 2335040 | R10: =SUM(AI19:AI118) -> 708462 | S10: =SUM(AJ19:AJ118) -> 1156921 | T10: =SUM(AK19:AK118) -> 469657
B11: ※本表に記載する事業所は、計画書の別紙様式２－２に記載した事業所と一致しなければならない。 事業所の数が多く、１枚に記載しきれない場合は、適宜、行を追加すること。 ※賃金改善前の賃金が既に年額４４０万円を上回り、特定加算の配分対象とならない職員については、「その他の職種（C）」の常勤換算職員数に含めること。なお、「その他の職種（C）」については、実人数によることも可能。 ※下表の「本年度の賃金の総額」の欄には、処遇改善加算・特定加算・処遇改善支援補助金を取得し実施される賃金の改善額を含むこと。
B13: 介護保険事業所番号 | M13: 指定権者 | P13: 事業所名 | Q13: サービス名 | R13: 処遇改善加算 | W13: 特定加算 | AI13: 処遇改善支援補助金による賃金改善の総額
N14: 事業所の所在地 | R14: 算定する処遇改善加算の区分 | S14: 本年度の加算の総額［円］ | V14: 本年度の賃金の総額［円］ | W14: 算定する特定加算の区分 | X14: 本年度の加算の総額［円］ | AB14: 本年度の賃金の総額［円］ | AE14: 本年度の常勤換算職員数［人］ | AH14: 経験・技能のある介護職員のうち月平均8万円以上又は年額440万円以上［人］
T15: グループ別内訳 | Y15: グループ別内訳 | AI15: 本年度の総額［円］
N16: 都道府県 | O16: 市区町村 | T16: 経験・技能のある介護職員(A) | U16: 他の 介護職員(B) | Y16: 経験・技能のある介護職員(A) | Z16: 他の 介護職員(B) | AA16: その他の職種(C) | AB16: 経験・技能のある介護職員(A) | AC16: 他の 介護職員(B) | AD16: その他の職種(C) | AE16: 経験・技能のある介護職員(A) | AF16: 他の 介護職員(B) | AG16: その他の職種(C) | AI16: 経験・技能のある介護職員(A) | AJ16: 他の 介護職員(B) | AK16: その他の職種(C)
A19: 1 | B19: =IF(基本情報入力シート!C33="","",基本情報入力シート!C33) -> 1 | C19: =IF(基本情報入力シート!D33="","",基本情報入力シート!D33) -> 3 | D19: =IF(基本情報入力シート!E33="","",基本情報入力シート!E33) -> 3 | E19: =IF(基本情報入力シート!F33="","",基本情報入力シート!F33) -> 4 | F19: =IF(基本情報入力シート!G33="","",基本情報入力シート!G33) -> 5 | G19: =IF(基本情報入力シート!H33="","",基本情報入力シート!H33) -> 6 | H19: =IF(基本情報入力シート!I33="","",基本情報入力シート!I33) -> 7 | I19: =IF(基本情報入力シート!J33="","",基本情報入力シート!J33) -> 8 | ... K19: =IF(基本情報入力シート!L33="","",基本情報入力シート!L33) -> 0 | L19: 13 | M19: =IF(基本情報入力シート!M33="","",基本情報入力シート!M33) -> 東京都 | N19: =IF(基本情報入力シート!R33="","",基本情報入力シート!R33) -> 東京都 | O19: =IF(基本情報入力シート!W33="","",基本情報入力シート!W33) -> 千代田区 | P19: =IF(基本情報入力シート!X33="","",基本情報入力シート!X33) -> 介護保険事業所名称０１ | Q19: =IF(基本情報入力シート!Y33="","",基本情報入力シート!Y33) -> 訪問介護 | R19: 加算Ⅱ | S19: 3420000 | T19: 568519 | U19: 2851481 | V19: 23048372 | W19: 特定Ⅰ | X19: 2154600 | Y19: 1231200 | Z19: 615600 | AA19: 307800 | AB19: 4307815 | AC19: 18740557 | AD19: 2704609 | AE19: 12.8 | AF19: 64.2 | AG19: 12.2 | AH19: 0 | AI19: 184935 | AJ19: 199597 | AK19: 120649
A20: =A19+1 -> 2 | B20: =IF(基本情報入力シート!C34="","",基本情報入力シート!C34) -> 1 | C20: =IF(基本情報入力シート!D34="","",基本情報入力シート!D34) -> 3 | D20: =IF(基本情報入力シート!E34="","",基本情報入力シート!E34) -> 3 | E20: =IF(基本情報入力シート!F34="","",基本情報入力シート!F34) -> 4 | F20: =IF(基本情報入力シート!G34="","",基本情報入力シート!G34) -> 5 | G20: =IF(基本情報入力シート!H34="","",基本情報入力シート!H34) -> 6 | H20: =IF(基本情報入力シート!I34="","",基本情報入力シート!I34) -> 7 | I20: =IF(基本情報入力シート!J34="","",基本情報入力シート!J34) -> 8 | ... K20: =IF(基本情報入力シート!L34="","",基本情報入力シート!L34) -> 0 | L20: 14 | M20: =IF(基本情報入力シート!M34="","",基本情報入力シート!M34) -> 東京都 | N20: =IF(基本情報入力シート!R34="","",基本情報入力シート!R34) -> 東京都 | O20: =IF(基本情報入力シート!W34="","",基本情報入力シート!W34) -> 豊島区 | P20: =IF(基本情報入力シート!X34="","",基本情報入力シート!X34) -> 介護保険事業所名称０２ | Q20: =IF(基本情報入力シート!Y34="","",基本情報入力シート!Y34) -> 通所介護 | R20: 加算Ⅰ | S20: 3086880 | T20: 748334 | U20: 2338546 | V20: 29475610 | W20: 特定Ⅰ | X20: 523200 | Y20: 298971 | Z20: 149485 | AA20: 74744 | AB20: 7754345 | AC20: 21721265 | AD20: 10677190 | AE20: 24 | AF20: 75 | AG20: 50.3 | AH20: 0 | AI20: 23945 | AJ20: 61265 | AK20: 23650
A21: =A20+1 -> 3 | B21: =IF(基本情報入力シート!C35="","",基本情報入力シート!C35) -> 1 | C21: =IF(基本情報入力シート!D35="","",基本情報入力シート!D35) -> 3 | D21: =IF(基本情報入力シート!E35="","",基本情報入力シート!E35) -> 3 | E21: =IF(基本情報入力シート!F35="","",基本情報入力シート!F35) -> 4 | F21: =IF(基本情報入力シート!G35="","",基本情報入力シート!G35) -> 5 | G21: =IF(基本情報入力シート!H35="","",基本情報入力シート!H35) -> 6 | H21: =IF(基本情報入力シート!I35="","",基本情報入力シート!I35) -> 7 | I21: =IF(基本情報入力シート!J35="","",基本情報入力シート!J35) -> 8 | ... K21: =IF(基本情報入力シート!L35="","",基本情報入力シート!L35) -> 0 | L21: 15 | M21: =IF(基本情報入力シート!M35="","",基本情報入力シート!M35) -> 世田谷区 | N21: =IF(基本情報入力シート!R35="","",基本情報入力シート!R35) -> 東京都 | O21: =IF(基本情報入力シート!W35="","",基本情報入力シート!W35) -> 世田谷区 | P21: =IF(基本情報入力シート!X35="","",基本情報入力シート!X35) -> 介護保険事業所名称０３ | Q21: =IF(基本情報入力シート!Y35="","",基本情報入力シート!Y35) -> 定期巡回･随時対応型訪問介護看護 | R21: 加算Ⅰ | S21: 7496640 | T21: 1817367 | U21: 5679273 | V21: 29754997 | W21: 特定Ⅰ | X21: 3447360 | Y21: 1969920 | Z21: 984960 | AA21: 492480 | AB21: 7888584 | AC21: 21866413 | AD21: 2504934 | AE21: 24 | AF21: 75 | AG21: 11.8 | AH21: 0 | AI21: 158184 | AJ21: 206413 | AK21: 5694
A22: =A21+1 -> 4 | B22: =IF(基本情報入力シート!C36="","",基本情報入力シート!C36) -> 1 | C22: =IF(基本情報入力シート!D36="","",基本情報入力シート!D36) -> 1 | D22: =IF(基本情報入力シート!E36="","",基本情報入力シート!E36) -> 3 | E22: =IF(基本情報入力シート!F36="","",基本情報入力シート!F36) -> 4 | F22: =IF(基本情報入力シート!G36="","",基本情報入力シート!G36) -> 5 | G22: =IF(基本情報入力シート!H36="","",基本情報入力シート!H36) -> 6 | H22: =IF(基本情報入力シート!I36="","",基本情報入力シート!I36) -> 7 | I22: =IF(基本情報入力シート!J36="","",基本情報入力シート!J36) -> 8 | ... K22: =IF(基本情報入力シート!L36="","",基本情報入力シート!L36) -> 0 | L22: 16 | M22: =IF(基本情報入力シート!M36="","",基本情報入力シート!M36) -> さいたま市 | N22: =IF(基本情報入力シート!R36="","",基本情報入力シート!R36) -> 埼玉県 | O22: =IF(基本情報入力シート!W36="","",基本情報入力シート!W36) -> さいたま市 | P22: =IF(基本情報入力シート!X36="","",基本情報入力シート!X36) -> 介護保険事業所名称０４ | Q22: =IF(基本情報入力シート!Y36="","",基本情報入力シート!Y36) -> 介護老人福祉施設 | R22: 加算Ⅰ | S22: 21274560 | T22: 2858077 | U22: 18416483 | V22: 124333660 | W22: 特定Ⅰ | X22: 4037040 | Y22: 2306880 | Z22: 1153440 | AA22: 576720 | AB22: 18396914 | AC22: 105936746 | AD22: 28294923 | AE22: 56.8 | AF22: 366 | AG22: 133.2 | AH22: 0 | AI22: 101634 | AJ22: 235946 | AK22: 83163
A23: =A22+1 -> 5 | B23: =IF(基本情報入力シート!C37="","",基本情報入力シート!C37) -> 1 | C23: =IF(基本情報入力シート!D37="","",基本情報入力シート!D37) -> 4 | D23: =IF(基本情報入力シート!E37="","",基本情報入力シート!E37) -> 3 | E23: =IF(基本情報入力シート!F37="","",基本情報入力シート!F37) -> 4 | F23: =IF(基本情報入力シート!G37="","",基本情報入力シート!G37) -> 5 | G23: =IF(基本情報入力シート!H37="","",基本情報入力シート!H37) -> 6 | H23: =IF(基本情報入力シート!I37="","",基本情報入力シート!I37) -> 7 | I23: =IF(基本情報入力シート!J37="","",基本情報入力シート!J37) -> 8 | ... K23: =IF(基本情報入力シート!L37="","",基本情報入力シート!L37) -> 0 | L23: 17 | M23: =IF(基本情報入力シート!M37="","",基本情報入力シート!M37) -> 横浜市 | N23: =IF(基本情報入力シート!R37="","",基本情報入力シート!R37) -> 神奈川県 | O23: =IF(基本情報入力シート!W37="","",基本情報入力シート!W37) -> 横浜市 | P23: =IF(基本情報入力シート!X37="","",基本情報入力シート!X37) -> 介護保険事業所名称０５ | Q23: =IF(基本情報入力シート!Y37="","",基本情報入力シート!Y37) -> （介護予防）小規模多機能型居宅介護 | R23: 加算Ⅱ | S23: 3864576 | T23: 808474 | U23: 3056102 | V23: 34289965 | W23: 特定Ⅰ | X23: 652800 | Y23: 373028 | Z23: 186514 | AA23: 93258 | AB23: 7817028 | AC23: 26453381 | AD23: 2815316 | AE23: 24.1 | AF23: 91.1 | AG23: 13.2 | AH23: 0 | AI23: 54418 | AJ23: 143701 | AK23: 19556
A24: =A23+1 -> 6 | B24: =IF(基本情報入力シート!C38="","",基本情報入力シート!C38) -> 1 | C24: =IF(基本情報入力シート!D38="","",基本情報入力シート!D38) -> 2 | D24: =IF(基本情報入力シート!E38="","",基本情報入力シート!E38) -> 3 | E24: =IF(基本情報入力シート!F38="","",基本情報入力シート!F38) -> 4 | F24: =IF(基本情報入力シート!G38="","",基本情報入力シート!G38) -> 5 | G24: =IF(基本情報入力シート!H38="","",基本情報入力シート!H38) -> 6 | H24: =IF(基本情報入力シート!I38="","",基本情報入力シート!I38) -> 7 | I24: =IF(基本情報入力シート!J38="","",基本情報入力シート!J38) -> 8 | ... K24: =IF(基本情報入力シート!L38="","",基本情報入力シート!L38) -> 6 | L24: 18 | M24: =IF(基本情報入力シート!M38="","",基本情報入力シート!M38) -> 千葉県 | N24: =IF(基本情報入力シート!R38="","",基本情報入力シート!R38) -> 千葉県 | O24: =IF(基本情報入力シート!W38="","",基本情報入力シート!W38) -> 千葉市 | P24: =IF(基本情報入力シート!X38="","",基本情報入力シート!X38) -> 介護保険事業所名称０６ | Q24: =IF(基本情報入力シート!Y38="","",基本情報入力シート!Y38) -> 介護老人保健施設 | R24: 加算Ⅰ | S24: 13995072 | T24: 2010709 | U24: 11984363 | V24: 120142845 | W24: 特定Ⅰ | X24: 7535808 | Y24: 4295410 | Z24: 2110026 | AA24: 1130372 | AB24: 21732846 | AC24: 98409999 | AD24: 34323095 | AE24: 84.5 | AF24: 450 | AG24: 191.5 | AH24: 0 | AI24: 185346 | AJ24: 309999 | AK24: 216945
A25: =A24+1 -> 7 | B25: =IF(基本情報入力シート!C39="","",基本情報入力シート!C39) -> 1 | C25: =IF(基本情報入力シート!D39="","",基本情報入力シート!D39) -> 2 | D25: =IF(基本情報入力シート!E39="","",基本情報入力シート!E39) -> 3 | E25: =IF(基本情報入力シート!F39="","",基本情報入力シート!F39) -> 4 | F25: =IF(基本情報入力シート!G39="","",基本情報入力シート!G39) -> 5 | G25: =IF(基本情報入力シート!H39="","",基本情報入力シート!H39) -> 6 | H25: =IF(基本情報入力シート!I39="","",基本情報入力シート!I39) -> 7 | I25: =IF(基本情報入力シート!J39="","",基本情報入力シート!J39) -> 8 | ... K25: =IF(基本情報入力シート!L39="","",基本情報入力シート!L39) -> 6 | L25: 19 | M25: =IF(基本情報入力シート!M39="","",基本情報入力シート!M39) -> 千葉県 | N25: =IF(基本情報入力シート!R39="","",基本情報入力シート!R39) -> 千葉県 | O25: =IF(基本情報入力シート!W39="","",基本情報入力シート!W39) -> 千葉市 | P25: =IF(基本情報入力シート!X39="","",基本情報入力シート!X39) -> 介護保険事業所名称０６ | Q25: =IF(基本情報入力シート!Y39="","",基本情報入力シート!Y39) -> （介護予防）短期入所療養介護（老健） | R25: 加算Ⅰ | S25: 1499472 | T25: 215434 | U25: 1284038 | W25: 特定Ⅰ | X25: 807408 | Y25: 460222 | Z25: 226074 | AA25: 121112
A26: =A25+1 -> 8 | B26: =IF(基本情報入力シート!C40="","",基本情報入力シート!C40) | C26: =IF(基本情報入力シート!D40="","",基本情報入力シート!D40) | D26: =IF(基本情報入力シート!E40="","",基本情報入力シート!E40) | E26: =IF(基本情報入力シート!F40="","",基本情報入力シート!F40) | F26: =IF(基本情報入力シート!G40="","",基本情報入力シート!G40) | G26: =IF(基本情報入力シート!H40="","",基本情報入力シート!H40) | H26: =IF(基本情報入力シート!I40="","",基本情報入力シート!I40) | I26: =IF(基本情報入力シート!J40="","",基本情報入力シート!J40) | ... K26: =IF(基本情報入力シート!L40="","",基本情報入力シート!L40) | L26: 20 | M26: =IF(基本情報入力シート!M40="","",基本情報入力シート!M40) | N26: =IF(基本情報入力シート!R40="","",基本情報入力シート!R40) | O26: =IF(基本情報入力シート!W40="","",基本情報入力シート!W40) | P26: =IF(基本情報入力シート!X40="","",基本情報入力シート!X40) | Q26: =IF(基本情報入力シート!Y40="","",基本情報入力シート!Y40)
A27: =A26+1 -> 9 | B27: =IF(基本情報入力シート!C41="","",基本情報入力シート!C41) | C27: =IF(基本情報入力シート!D41="","",基本情報入力シート!D41) | D27: =IF(基本情報入力シート!E41="","",基本情報入力シート!E41) | E27: =IF(基本情報入力シート!F41="","",基本情報入力シート!F41) | F27: =IF(基本情報入力シート!G41="","",基本情報入力シート!G41) | G27: =IF(基本情報入力シート!H41="","",基本情報入力シート!H41) | H27: =IF(基本情報入力シート!I41="","",基本情報入力シート!I41) | I27: =IF(基本情報入力シート!J41="","",基本情報入力シート!J41) | ... K27: =IF(基本情報入力シート!L41="","",基本情報入力シート!L41) | L27: 21 | M27: =IF(基本情報入力シート!M41="","",基本情報入力シート!M41) | N27: =IF(基本情報入力シート!R41="","",基本情報入力シート!R41) | O27: =IF(基本情報入力シート!W41="","",基本情報入力シート!W41) | P27: =IF(基本情報入力シート!X41="","",基本情報入力シート!X41) | Q27: =IF(基本情報入力シート!Y41="","",基本情報入力シート!Y41)
A28: =A27+1 -> 10 | B28: =IF(基本情報入力シート!C42="","",基本情報入力シート!C42) | C28: =IF(基本情報入力シート!D42="","",基本情報入力シート!D42) | D28: =IF(基本情報入力シート!E42="","",基本情報入力シート!E42) | E28: =IF(基本情報入力シート!F42="","",基本情報入力シート!F42) | F28: =IF(基本情報入力シート!G42="","",基本情報入力シート!G42) | G28: =IF(基本情報入力シート!H42="","",基本情報入力シート!H42) | H28: =IF(基本情報入力シート!I42="","",基本情報入力シート!I42) | I28: =IF(基本情報入力シート!J42="","",基本情報入力シート!J42) | ... K28: =IF(基本情報入力シート!L42="","",基本情報入力シート!L42) | L28: 22 | M28: =IF(基本情報入力シート!M42="","",基本情報入力シート!M42) | N28: =IF(基本情報入力シート!R42="","",基本情報入力シート!R42) | O28: =IF(基本情報入力シート!W42="","",基本情報入力シート!W42) | P28: =IF(基本情報入力シート!X42="","",基本情報入力シート!X42) | Q28: =IF(基本情報入力シート!Y42="","",基本情報入力シート!Y42)
A29: =A28+1 -> 11 | B29: =IF(基本情報入力シート!C43="","",基本情報入力シート!C43) | C29: =IF(基本情報入力シート!D43="","",基本情報入力シート!D43) | D29: =IF(基本情報入力シート!E43="","",基本情報入力シート!E43) | E29: =IF(基本情報入力シート!F43="","",基本情報入力シート!F43) | F29: =IF(基本情報入力シート!G43="","",基本情報入力シート!G43) | G29: =IF(基本情報入力シート!H43="","",基本情報入力シート!H43) | H29: =IF(基本情報入力シート!I43="","",基本情報入力シート!I43) | I29: =IF(基本情報入力シート!J43="","",基本情報入力シート!J43) | ... K29: =IF(基本情報入力シート!L43="","",基本情報入力シート!L43) | L29: 23 | M29: =IF(基本情報入力シート!M43="","",基本情報入力シート!M43) | N29: =IF(基本情報入力シート!R43="","",基本情報入力シート!R43) | O29: =IF(基本情報入力シート!W43="","",基本情報入力シート!W43) | P29: =IF(基本情報入力シート!X43="","",基本情報入力シート!X43) | Q29: =IF(基本情報入力シート!Y43="","",基本情報入力シート!Y43)
A30: =A29+1 -> 12 | B30: =IF(基本情報入力シート!C44="","",基本情報入力シート!C44) | C30: =IF(基本情報入力シート!D44="","",基本情報入力シート!D44) | D30: =IF(基本情報入力シート!E44="","",基本情報入力シート!E44) | E30: =IF(基本情報入力シート!F44="","",基本情報入力シート!F44) | F30: =IF(基本情報入力シート!G44="","",基本情報入力シート!G44) | G30: =IF(基本情報入力シート!H44="","",基本情報入力シート!H44) | H30: =IF(基本情報入力シート!I44="","",基本情報入力シート!I44) | I30: =IF(基本情報入力シート!J44="","",基本情報入力シート!J44) | ... K30: =IF(基本情報入力シート!L44="","",基本情報入力シート!L44) | L30: 24 | M30: =IF(基本情報入力シート!M44="","",基本情報入力シート!M44) | N30: =IF(基本情報入力シート!R44="","",基本情報入力シート!R44) | O30: =IF(基本情報入力シート!W44="","",基本情報入力シート!W44) | P30: =IF(基本情報入力シート!X44="","",基本情報入力シート!X44) | Q30: =IF(基本情報入力シート!Y44="","",基本情報入力シート!Y44)
A31: =A30+1 -> 13 | B31: =IF(基本情報入力シート!C45="","",基本情報入力シート!C45) | C31: =IF(基本情報入力シート!D45="","",基本情報入力シート!D45) | D31: =IF(基本情報入力シート!E45="","",基本情報入力シート!E45) | E31: =IF(基本情報入力シート!F45="","",基本情報入力シート!F45) | F31: =IF(基本情報入力シート!G45="","",基本情報入力シート!G45) | G31: =IF(基本情報入力シート!H45="","",基本情報入力シート!H45) | H31: =IF(基本情報入力シート!I45="","",基本情報入力シート!I45) | I31: =IF(基本情報入力シート!J45="","",基本情報入力シート!J45) | ... K31: =IF(基本情報入力シート!L45="","",基本情報入力シート!L45) | L31: 25 | M31: =IF(基本情報入力シート!M45="","",基本情報入力シート!M45) | N31: =IF(基本情報入力シート!R45="","",基本情報入力シート!R45) | O31: =IF(基本情報入力シート!W45="","",基本情報入力シート!W45) | P31: =IF(基本情報入力シート!X45="","",基本情報入力シート!X45) | Q31: =IF(基本情報入力シート!Y45="","",基本情報入力シート!Y45)
A32: =A31+1 -> 14 | B32: =IF(基本情報入力シート!C46="","",基本情報入力シート!C46) | C32: =IF(基本情報入力シート!D46="","",基本情報入力シート!D46) | D32: =IF(基本情報入力シート!E46="","",基本情報入力シート!E46) | E32: =IF(基本情報入力シート!F46="","",基本情報入力シート!F46) | F32: =IF(基本情報入力シート!G46="","",基本情報入力シート!G46) | G32: =IF(基本情報入力シート!H46="","",基本情報入力シート!H46) | H32: =IF(基本情報入力シート!I46="","",基本情報入力シート!I46) | I32: =IF(基本情報入力シート!J46="","",基本情報入力シート!J46) | ... K32: =IF(基本情報入力シート!L46="","",基本情報入力シート!L46) | L32: 26 | M32: =IF(基本情報入力シート!M46="","",基本情報入力シート!M46) | N32: =IF(基本情報入力シート!R46="","",基本情報入力シート!R46) | O32: =IF(基本情報入力シート!W46="","",基本情報入力シート!W46) | P32: =IF(基本情報入力シート!X46="","",基本情報入力シート!X46) | Q32: =IF(基本情報入力シート!Y46="","",基本情報入力シート!Y46)
A33: =A32+1 -> 15 | B33: =IF(基本情報入力シート!C47="","",基本情報入力シート!C47) | C33: =IF(基本情報入力シート!D47="","",基本情報入力シート!D47) | D33: =IF(基本情報入力シート!E47="","",基本情報入力シート!E47) | E33: =IF(基本情報入力シート!F47="","",基本情報入力シート!F47) | F33: =IF(基本情報入力シート!G47="","",基本情報入力シート!G47) | G33: =IF(基本情報入力シート!H47="","",基本情報入力シート!H47) | H33: =IF(基本情報入力シート!I47="","",基本情報入力シート!I47) | I33: =IF(基本情報入力シート!J47="","",基本情報入力シート!J47) | ... K33: =IF(基本情報入力シート!L47="","",基本情報入力シート!L47) | L33: 27 | M33: =IF(基本情報入力シート!M47="","",基本情報入力シート!M47) | N33: =IF(基本情報入力シート!R47="","",基本情報入力シート!R47) | O33: =IF(基本情報入力シート!W47="","",基本情報入力シート!W47) | P33: =IF(基本情報入力シート!X47="","",基本情報入力シート!X47) | Q33: =IF(基本情報入力シート!Y47="","",基本情報入力シート!Y47)
A34: =A33+1 -> 16 | B34: =IF(基本情報入力シート!C48="","",基本情報入力シート!C48) | C34: =IF(基本情報入力シート!D48="","",基本情報入力シート!D48) | D34: =IF(基本情報入力シート!E48="","",基本情報入力シート!E48) | E34: =IF(基本情報入力シート!F48="","",基本情報入力シート!F48) | F34: =IF(基本情報入力シート!G48="","",基本情報入力シート!G48) | G34: =IF(基本情報入力シート!H48="","",基本情報入力シート!H48) | H34: =IF(基本情報入力シート!I48="","",基本情報入力シート!I48) | I34: =IF(基本情報入力シート!J48="","",基本情報入力シート!J48) | ... K34: =IF(基本情報入力シート!L48="","",基本情報入力シート!L48) | L34: 28 | M34: =IF(基本情報入力シート!M48="","",基本情報入力シート!M48) | N34: =IF(基本情報入力シート!R48="","",基本情報入力シート!R48) | O34: =IF(基本情報入力シート!W48="","",基本情報入力シート!W48) | P34: =IF(基本情報入力シート!X48="","",基本情報入力シート!X48) | Q34: =IF(基本情報入力シート!Y48="","",基本情報入力シート!Y48)
A35: =A34+1 -> 17 | B35: =IF(基本情報入力シート!C49="","",基本情報入力シート!C49) | C35: =IF(基本情報入力シート!D49="","",基本情報入力シート!D49) | D35: =IF(基本情報入力シート!E49="","",基本情報入力シート!E49) | E35: =IF(基本情報入力シート!F49="","",基本情報入力シート!F49) | F35: =IF(基本情報入力シート!G49="","",基本情報入力シート!G49) | G35: =IF(基本情報入力シート!H49="","",基本情報入力シート!H49) | H35: =IF(基本情報入力シート!I49="","",基本情報入力シート!I49) | I35: =IF(基本情報入力シート!J49="","",基本情報入力シート!J49) | ... K35: =IF(基本情報入力シート!L49="","",基本情報入力シート!L49) | L35: 29 | M35: =IF(基本情報入力シート!M49="","",基本情報入力シート!M49) | N35: =IF(基本情報入力シート!R49="","",基本情報入力シート!R49) | O35: =IF(基本情報入力シート!W49="","",基本情報入力シート!W49) | P35: =IF(基本情報入力シート!X49="","",基本情報入力シート!X49) | Q35: =IF(基本情報入力シート!Y49="","",基本情報入力シート!Y49)
A36: =A35+1 -> 18 | B36: =IF(基本情報入力シート!C50="","",基本情報入力シート!C50) | C36: =IF(基本情報入力シート!D50="","",基本情報入力シート!D50) | D36: =IF(基本情報入力シート!E50="","",基本情報入力シート!E50) | E36: =IF(基本情報入力シート!F50="","",基本情報入力シート!F50) | F36: =IF(基本情報入力シート!G50="","",基本情報入力シート!G50) | G36: =IF(基本情報入力シート!H50="","",基本情報入力シート!H50) | H36: =IF(基本情報入力シート!I50="","",基本情報入力シート!I50) | I36: =IF(基本情報入力シート!J50="","",基本情報入力シート!J50) | ... K36: =IF(基本情報入力シート!L50="","",基本情報入力シート!L50) | L36: 30 | M36: =IF(基本情報入力シート!M50="","",基本情報入力シート!M50) | N36: =IF(基本情報入力シート!R50="","",基本情報入力シート!R50) | O36: =IF(基本情報入力シート!W50="","",基本情報入力シート!W50) | P36: =IF(基本情報入力シート!X50="","",基本情報入力シート!X50) | Q36: =IF(基本情報入力シート!Y50="","",基本情報入力シート!Y50)
A37: =A36+1 -> 19 | B37: =IF(基本情報入力シート!C51="","",基本情報入力シート!C51) | C37: =IF(基本情報入力シート!D51="","",基本情報入力シート!D51) | D37: =IF(基本情報入力シート!E51="","",基本情報入力シート!E51) | E37: =IF(基本情報入力シート!F51="","",基本情報入力シート!F51) | F37: =IF(基本情報入力シート!G51="","",基本情報入力シート!G51) | G37: =IF(基本情報入力シート!H51="","",基本情報入力シート!H51) | H37: =IF(基本情報入力シート!I51="","",基本情報入力シート!I51) | I37: =IF(基本情報入力シート!J51="","",基本情報入力シート!J51) | ... K37: =IF(基本情報入力シート!L51="","",基本情報入力シート!L51) | L37: 31 | M37: =IF(基本情報入力シート!M51="","",基本情報入力シート!M51) | N37: =IF(基本情報入力シート!R51="","",基本情報入力シート!R51) | O37: =IF(基本情報入力シート!W51="","",基本情報入力シート!W51) | P37: =IF(基本情報入力シート!X51="","",基本情報入力シート!X51) | Q37: =IF(基本情報入力シート!Y51="","",基本情報入力シート!Y51)
... A118: =A117+1 -> 100 | B118: =IF(基本情報入力シート!C132="","",基本情報入力シート!C132) | C118: =IF(基本情報入力シート!D132="","",基本情報入力シート!D132) | D118: =IF(基本情報入力シート!E132="","",基本情報入力シート!E132) | E118: =IF(基本情報入力シート!F132="","",基本情報入力シート!F132) | F118: =IF(基本情報入力シート!G132="","",基本情報入力シート!G132) | G118: =IF(基本情報入力シート!H132="","",基本情報入力シート!H132) | H118: =IF(基本情報入力シート!I132="","",基本情報入力シート!I132) | I118: =IF(基本情報入力シート!J132="","",基本情報入力シート!J132) | ... K118: =IF(基本情報入力シート!L132="","",基本情報入力シート!L132) | L118: 112 | M118: =IF(基本情報入力シート!M132="","",基本情報入力シート!M132) | N118: =IF(基本情報入力シート!R132="","",基本情報入力シート!R132) | O118: =IF(基本情報入力シート!W132="","",基本情報入力シート!W132) | P118: =IF(基本情報入力シート!X132="","",基本情報入力シート!X132) | Q118: =IF(基本情報入力シート!Y132="","",基本情報入力シート!Y132)

Sheet 【参考】サービス名一覧
A2: ＜サービス名一覧>
A3: サービス名
A4: 訪問介護
A5: 夜間対応型訪問介護
A6: 定期巡回･随時対応型訪問介護看護
A7: 訪問入浴介護
A8: 通所介護
A9: 地域密着型通所介護
A10: 通所リハビリテーション
A11: 特定施設入居者生活介護
A12: 地域密着型特定施設入居者生活介護
A13: 認知症対応型通所介護
... A37: 介護予防短期入所療養介護（医療院）
